BEGIN:VCALENDAR
VERSION:2.0
PRODID:-//San Bo Dojo und Kô Getsu An - ECPv6.15.20//NONSGML v1.0//EN
CALSCALE:GREGORIAN
METHOD:PUBLISH
X-ORIGINAL-URL:https://zen-bonn.de
X-WR-CALDESC:Veranstaltungen für San Bo Dojo und Kô Getsu An
REFRESH-INTERVAL;VALUE=DURATION:PT1H
X-Robots-Tag:noindex
X-PUBLISHED-TTL:PT1H
BEGIN:VTIMEZONE
TZID:Europe/Berlin
BEGIN:DAYLIGHT
TZOFFSETFROM:+0100
TZOFFSETTO:+0200
TZNAME:CEST
DTSTART:20180325T010000
END:DAYLIGHT
BEGIN:STANDARD
TZOFFSETFROM:+0200
TZOFFSETTO:+0100
TZNAME:CET
DTSTART:20181028T010000
END:STANDARD
BEGIN:DAYLIGHT
TZOFFSETFROM:+0100
TZOFFSETTO:+0200
TZNAME:CEST
DTSTART:20190331T010000
END:DAYLIGHT
BEGIN:STANDARD
TZOFFSETFROM:+0200
TZOFFSETTO:+0100
TZNAME:CET
DTSTART:20191027T010000
END:STANDARD
BEGIN:DAYLIGHT
TZOFFSETFROM:+0100
TZOFFSETTO:+0200
TZNAME:CEST
DTSTART:20200329T010000
END:DAYLIGHT
BEGIN:STANDARD
TZOFFSETFROM:+0200
TZOFFSETTO:+0100
TZNAME:CET
DTSTART:20201025T010000
END:STANDARD
BEGIN:DAYLIGHT
TZOFFSETFROM:+0100
TZOFFSETTO:+0200
TZNAME:CEST
DTSTART:20210328T010000
END:DAYLIGHT
BEGIN:STANDARD
TZOFFSETFROM:+0200
TZOFFSETTO:+0100
TZNAME:CET
DTSTART:20211031T010000
END:STANDARD
END:VTIMEZONE
BEGIN:VEVENT
DTSTART;TZID=Europe/Berlin:20200314T080000
DTEND;TZID=Europe/Berlin:20200315T150000
DTSTAMP:20260424T114057
CREATED:20191128T133028Z
LAST-MODIFIED:20191128T133028Z
UID:10000898-1584172800-1584284400@zen-bonn.de
SUMMARY:Kesa Näh Wochenende mit Frauke Blessmann
DESCRIPTION:
URL:https://zen-bonn.de/termin/kesa-naeh-wochenende-mit-frauke-blessmann/
LOCATION:Zendo Köln\, Karolingerring 19\, Köln\, 50678\, Deutschland
END:VEVENT
BEGIN:VEVENT
DTSTART;TZID=Europe/Berlin:20200215T073000
DTEND;TZID=Europe/Berlin:20200216T150000
DTSTAMP:20260424T114057
CREATED:20191128T132747Z
LAST-MODIFIED:20200116T133217Z
UID:10000896-1581751800-1581865200@zen-bonn.de
SUMMARY:Sesshin mit Laure Hosetsu Scemama
DESCRIPTION:Laure Hosetsu Scemama wurde 1948 geboren und arbeitete als Lehrerin. Sie praktiziert seit 1977 täglich Zazen und wurde von Meister Deshimaru zur Nonne ordiniert. \nSie war in den Dojos von Marrakesch und dann von Toulon aktiv\, lebte von 1997 bis 2002 im Tempel von La Gendronnière und war danach als Gründungsmitglied an der Gründung des Klosters Kanshoji (Dordogne\, Frankreich) beteiligt. Sie gründete 2003 das Zen-Zentrum von Limoges\, in dem sie unterrichtet. Sie unterrichtet auch während Sesshins in Frankreich und in verschiedenen Ländern. \nLaure Hosetsu Scemama praktizierte einige Monate in Tempeln in Japan und erhielt 2008 die Dharma-Übermittlung von Donin Minamisawa Roshi\, Vize-Zenji von Eiheiji. Sie ist Kyoshi (qualifizierte Lehrerin) der Sôtô-Schule. \nSie ist Vize-Äbtissin des Kanshoji-Klosters und Mitglied des Spiritual Council der International Zen Association. \nAnkunft Freitag ab 18:30 möglich.
URL:https://zen-bonn.de/termin/sesshin-mit-laure-hosetsu-scemama/
LOCATION:Zendo Köln\, Karolingerring 19\, Köln\, 50678\, Deutschland
CATEGORIES:Zen Tag | Zazenkai | Sesshin
ATTACH;FMTTYPE=image/jpeg:https://zen-bonn.de/wp-content/uploads/2019/04/laure_scemama.jpg
END:VEVENT
BEGIN:VEVENT
DTSTART;TZID=Europe/Berlin:20191115T070000
DTEND;TZID=Europe/Berlin:20191116T160000
DTSTAMP:20260424T114057
CREATED:20190417T183738Z
LAST-MODIFIED:20191017T140415Z
UID:10000846-1573801200-1573920000@zen-bonn.de
SUMMARY:Zen Sesshin mit Peter Shokan Jansen in Köln
DESCRIPTION:Vom 15.11. oder 16.11.2019 findet im Zendo Köln ein Zen Sesshin mit Peter Shokan Jansen statt. \nPeter Shokan Jansen ist Zen-Mönch und langjähriger Schüler von Roland Yuno Rech. \nDie Anreise ist ab Donnerstag\, 14.11.2019 abends möglich. \nMitbringen: Zafu\, Zafuton\, Kimono bzw. bequeme Kleidung\, Essschale\, Löffel \nÜbernachtung möglich – Schlafsack + Isomatte \nBeitrag: € 65\,00 (Ermäßigung möglich) \nIm Anschluss an das Sesshin (ab 18:00) feiert das Zendo Köln sein 20-jähriges Bestehen.
URL:https://zen-bonn.de/termin/zen-sesshin-mit-peter-jansen-koeln/
LOCATION:Zendo Köln\, Karolingerring 19\, Köln\, 50678\, Deutschland
CATEGORIES:Zen Tag | Zazenkai | Sesshin
ATTACH;FMTTYPE=image/jpeg:https://zen-bonn.de/wp-content/uploads/2019/04/Peter-Jansen.jpg
END:VEVENT
BEGIN:VEVENT
DTSTART;VALUE=DATE:20190907
DTEND;VALUE=DATE:20190908
DTSTAMP:20260424T114057
CREATED:20190417T183001Z
LAST-MODIFIED:20190709T160509Z
UID:10000845-1567814400-1567900799@zen-bonn.de
SUMMARY:Zen Tag mit Michel Ayguesparsse
DESCRIPTION:Am 07.09.2019 findet im Zendo Köln ein Zen Tag mit Michel Ayguesparsse statt. \nMichel Ayguesparsse ist Zen Mönch und praktiziert im Angyo Dojo in Basel. Er ist Schüler von Roland Yuno Rech. \nFlyer PDF
URL:https://zen-bonn.de/termin/zen-tag-mit-michel-ayguesparsse/
LOCATION:Zendo Köln\, Karolingerring 19\, Köln\, 50678\, Deutschland
CATEGORIES:Zen Tag | Zazenkai | Sesshin
ATTACH;FMTTYPE=image/jpeg:https://zen-bonn.de/wp-content/uploads/2019/04/Michel-Ayguesparsse.jpg
END:VEVENT
END:VCALENDAR