BEGIN:VCALENDAR
VERSION:2.0
PRODID:-//San Bo Dojo und Kô Getsu An - ECPv6.15.20//NONSGML v1.0//EN
CALSCALE:GREGORIAN
METHOD:PUBLISH
X-WR-CALNAME:San Bo Dojo und Kô Getsu An
X-ORIGINAL-URL:https://zen-bonn.de
X-WR-CALDESC:Veranstaltungen für San Bo Dojo und Kô Getsu An
REFRESH-INTERVAL;VALUE=DURATION:PT1H
X-Robots-Tag:noindex
X-PUBLISHED-TTL:PT1H
BEGIN:VTIMEZONE
TZID:Europe/Berlin
BEGIN:DAYLIGHT
TZOFFSETFROM:+0100
TZOFFSETTO:+0200
TZNAME:CEST
DTSTART:20210328T010000
END:DAYLIGHT
BEGIN:STANDARD
TZOFFSETFROM:+0200
TZOFFSETTO:+0100
TZNAME:CET
DTSTART:20211031T010000
END:STANDARD
BEGIN:DAYLIGHT
TZOFFSETFROM:+0100
TZOFFSETTO:+0200
TZNAME:CEST
DTSTART:20220327T010000
END:DAYLIGHT
BEGIN:STANDARD
TZOFFSETFROM:+0200
TZOFFSETTO:+0100
TZNAME:CET
DTSTART:20221030T010000
END:STANDARD
BEGIN:DAYLIGHT
TZOFFSETFROM:+0100
TZOFFSETTO:+0200
TZNAME:CEST
DTSTART:20230326T010000
END:DAYLIGHT
BEGIN:STANDARD
TZOFFSETFROM:+0200
TZOFFSETTO:+0100
TZNAME:CET
DTSTART:20231029T010000
END:STANDARD
END:VTIMEZONE
BEGIN:VEVENT
DTSTART;TZID=Europe/Berlin:20221213T190000
DTEND;TZID=Europe/Berlin:20221213T203000
DTSTAMP:20260424T082520
CREATED:20220331T115412Z
LAST-MODIFIED:20260126T113801Z
UID:10001326-1670958000-1670963400@zen-bonn.de
SUMMARY:Zazen im San Bo Dojo
DESCRIPTION:Ein Zen Abend in der Form des Soto Zen\, mit Zazen\, Kin Hin und Rezitation. \nGeleitet von Patrick Ho Kai Damschen. \nUm Anmeldung wird gebeten.
URL:https://zen-bonn.de/termin/zazen-im-san-bo-dojo/2022-12-13/
LOCATION:San Bo Dojo\, Heerstraße 167\, Bonn\, Nordrhein-Westfalen\, 53111\, Deutschland
CATEGORIES:Zen Tag | Zazenkai | Sesshin
ATTACH;FMTTYPE=image/jpeg:https://zen-bonn.de/wp-content/uploads/2020/11/Han-San-Bo-Dojo_klein.jpg
ORGANIZER;CN="Zen Dojo Bonn e.V.":MAILTO:info@zen-bonn.de
END:VEVENT
BEGIN:VEVENT
DTSTART;TZID=Europe/Berlin:20221213T190000
DTEND;TZID=Europe/Berlin:20221213T203000
DTSTAMP:20260424T082520
CREATED:20220331T115412Z
LAST-MODIFIED:20260126T113803Z
UID:10001331-1670958000-1670963400@zen-bonn.de
SUMMARY:Zazen im San Bo Dojo
DESCRIPTION:Ein Zen Abend in der Form des Soto Zen\, mit Zazen\, Kin Hin und Rezitation. \nGeleitet von Patrick Ho Kai Damschen. \nUm Anmeldung wird gebeten.
URL:https://zen-bonn.de/termin/zazen-im-san-bo-dojo/2022-12-13/
LOCATION:San Bo Dojo\, Heerstraße 167\, Bonn\, Nordrhein-Westfalen\, 53111\, Deutschland
CATEGORIES:Zen Tag | Zazenkai | Sesshin
ATTACH;FMTTYPE=image/jpeg:https://zen-bonn.de/wp-content/uploads/2020/11/Han-San-Bo-Dojo_klein.jpg
ORGANIZER;CN="Zen Dojo Bonn e.V.":MAILTO:info@zen-bonn.de
END:VEVENT
BEGIN:VEVENT
DTSTART;TZID=Europe/Berlin:20221213T190000
DTEND;TZID=Europe/Berlin:20221213T203000
DTSTAMP:20260424T082520
CREATED:20220331T115412Z
LAST-MODIFIED:20260126T113804Z
UID:10001335-1670958000-1670963400@zen-bonn.de
SUMMARY:Zazen im San Bo Dojo
DESCRIPTION:Ein Zen Abend in der Form des Soto Zen\, mit Zazen\, Kin Hin und Rezitation. \nGeleitet von Patrick Ho Kai Damschen. \nUm Anmeldung wird gebeten.
URL:https://zen-bonn.de/termin/zazen-im-san-bo-dojo/2022-12-13/
LOCATION:San Bo Dojo\, Heerstraße 167\, Bonn\, Nordrhein-Westfalen\, 53111\, Deutschland
CATEGORIES:Zen Tag | Zazenkai | Sesshin
ATTACH;FMTTYPE=image/jpeg:https://zen-bonn.de/wp-content/uploads/2020/11/Han-San-Bo-Dojo_klein.jpg
ORGANIZER;CN="Zen Dojo Bonn e.V.":MAILTO:info@zen-bonn.de
END:VEVENT
BEGIN:VEVENT
DTSTART;TZID=Europe/Berlin:20221213T190000
DTEND;TZID=Europe/Berlin:20221213T203000
DTSTAMP:20260424T082520
CREATED:20220331T115412Z
LAST-MODIFIED:20260126T113804Z
UID:10001338-1670958000-1670963400@zen-bonn.de
SUMMARY:Zazen im San Bo Dojo
DESCRIPTION:Ein Zen Abend in der Form des Soto Zen\, mit Zazen\, Kin Hin und Rezitation. \nGeleitet von Patrick Ho Kai Damschen. \nUm Anmeldung wird gebeten.
URL:https://zen-bonn.de/termin/zazen-im-san-bo-dojo/2022-12-13/
LOCATION:San Bo Dojo\, Heerstraße 167\, Bonn\, Nordrhein-Westfalen\, 53111\, Deutschland
CATEGORIES:Zen Tag | Zazenkai | Sesshin
ATTACH;FMTTYPE=image/jpeg:https://zen-bonn.de/wp-content/uploads/2020/11/Han-San-Bo-Dojo_klein.jpg
ORGANIZER;CN="Zen Dojo Bonn e.V.":MAILTO:info@zen-bonn.de
END:VEVENT
BEGIN:VEVENT
DTSTART;TZID=Europe/Berlin:20221208T190000
DTEND;TZID=Europe/Berlin:20221208T203000
DTSTAMP:20260424T082520
CREATED:20220519T140656Z
LAST-MODIFIED:20220519T141944Z
UID:10001146-1670526000-1670531400@zen-bonn.de
SUMMARY:Zazen im San Bo Dojo (+Zoom)
DESCRIPTION:Ein Zen Abend in der Form des Soto Zen\, mit Zazen\, Kin Hin und Rezitation. \nGeleitet von Patrick Ho Kai Damschen. \nUm Anmeldung wird gebeten. \nDer Zen Abend wird gleichzeitig via Zoom übertragen. Die Einwahldaten können per E-Mail erfragt werden. \n 
URL:https://zen-bonn.de/termin/zazen-im-san-bo-dojo-donnerstag/2022-12-08/
LOCATION:San Bo Dojo\, Heerstraße 167\, Bonn\, Nordrhein-Westfalen\, 53111\, Deutschland
CATEGORIES:Zen Tag | Zazenkai | Sesshin
ATTACH;FMTTYPE=image/jpeg:https://zen-bonn.de/wp-content/uploads/2020/11/Han-San-Bo-Dojo_klein.jpg
ORGANIZER;CN="Zen Dojo Bonn e.V.":MAILTO:info@zen-bonn.de
END:VEVENT
BEGIN:VEVENT
DTSTART;TZID=Europe/Berlin:20221201T190000
DTEND;TZID=Europe/Berlin:20221208T070000
DTSTAMP:20260424T082521
CREATED:20211231T142653Z
LAST-MODIFIED:20221123T154511Z
UID:10001005-1669921200-1670482800@zen-bonn.de
SUMMARY:Zen Praxiswoche "Buddhas Satori"
DESCRIPTION:Vom 01.12. – 08.12.2022 findet auch in diesem Jahr wieder unsere Zen Praxiswoche zu Buddhas Erwachen statt. \nWährend der Zen Praxiswoche werden wir uns mit dem Kapitel „Shohô jissô“ (Die wirkliche Form aller Dharmas) aus Dogen´s Shobogenzo beschäftigen. \nTraditionell finden in dieser Zeit des Jahres die Rohatsu-Sesshins statt\, welche als eine der intensivsten Sesshins gelten. Unsere Zen Praxiswoche ist eine Gelegenheit die gemeinsame Zen-Übung zu vertiefen. Wir sitzen jeweils morgens und abends\, während tagsüber jede/r ihren/seinen Tätigkeiten nachgeht. \nHier die einzelnen Zeiten: \nDonnerstag\, 01.12.22: 19:00\nFreitag\, 02.12.22: 7:00 und 19:00\nSamstag\, 03.12.22: 9:00 und 19:00\nSonntag\, 04.12.22: 9:00 und 19:00\nMontag\, 05.12.22: 7:00 und 19:00\nDienstag\, 06.12.22: 7:00 und 19:00\nMittwoch\, 07.12.22: 7:00 und 19:00\nDonnerstag\, 08.12.22: 7:00 \nNach dem Morgen-Zazen besteht jeweils das Angebot an einer Tee-Runde teilzunehmen und sich auszutauschen. \nEine Teilnahme ist auch an einzelnen Terminen möglich. \nAm Samstag\, 03.12.2022 schauen wir um 16:00 den Film Zen for nothing. Hier ein Trailer… (YouTube) \nAm Sonntag\, 04.12.2022 wird Muhô via Zoom einen Vortrag halten. Im Anschluss gibt es Gelegenheit für einen Austausch und Fragen. \nDie gesamte Zen Praxiswoche findet gleichzeitig via Zoom statt. Die entsprechenden Einwahldaten (auch für den Vortrag) senden wir gerne auf Anfrage zu. \nAnmeldungen und/oder Fragen bitte an: info@zen-bonn.de \nFür die Teilnahme freuen wir uns über Spenden.
URL:https://zen-bonn.de/termin/zen-praxiswoche-buddhas-satori-2022/
LOCATION:San Bo Dojo\, Heerstraße 167\, Bonn\, Nordrhein-Westfalen\, 53111\, Deutschland
CATEGORIES:featured,Zen Tag | Zazenkai | Sesshin
ATTACH;FMTTYPE=image/jpeg:https://zen-bonn.de/wp-content/uploads/2019/04/Praxiswoche-2016-Facebook.jpg
ORGANIZER;CN="Zen Dojo Bonn e.V.":MAILTO:info@zen-bonn.de
END:VEVENT
BEGIN:VEVENT
DTSTART;TZID=Europe/Berlin:20221129T190000
DTEND;TZID=Europe/Berlin:20221129T203000
DTSTAMP:20260424T082521
CREATED:20220331T115412Z
LAST-MODIFIED:20220331T123942Z
UID:10001080-1669748400-1669753800@zen-bonn.de
SUMMARY:Zazen im San Bo Dojo
DESCRIPTION:Ein Zen Abend in der Form des Soto Zen\, mit Zazen\, Kin Hin und Rezitation. \nGeleitet von Patrick Ho Kai Damschen. \nUm Anmeldung wird gebeten.
URL:https://zen-bonn.de/termin/zazen-im-san-bo-dojo/2022-11-29/
LOCATION:San Bo Dojo\, Heerstraße 167\, Bonn\, Nordrhein-Westfalen\, 53111\, Deutschland
CATEGORIES:Zen Tag | Zazenkai | Sesshin
ATTACH;FMTTYPE=image/jpeg:https://zen-bonn.de/wp-content/uploads/2020/11/Han-San-Bo-Dojo_klein.jpg
ORGANIZER;CN="Zen Dojo Bonn e.V.":MAILTO:info@zen-bonn.de
END:VEVENT
BEGIN:VEVENT
DTSTART;TZID=Europe/Berlin:20221129T190000
DTEND;TZID=Europe/Berlin:20221129T203000
DTSTAMP:20260424T082521
CREATED:20220331T115412Z
LAST-MODIFIED:20260126T113801Z
UID:10001325-1669748400-1669753800@zen-bonn.de
SUMMARY:Zazen im San Bo Dojo
DESCRIPTION:Ein Zen Abend in der Form des Soto Zen\, mit Zazen\, Kin Hin und Rezitation. \nGeleitet von Patrick Ho Kai Damschen. \nUm Anmeldung wird gebeten.
URL:https://zen-bonn.de/termin/zazen-im-san-bo-dojo/2022-11-29/
LOCATION:San Bo Dojo\, Heerstraße 167\, Bonn\, Nordrhein-Westfalen\, 53111\, Deutschland
CATEGORIES:Zen Tag | Zazenkai | Sesshin
ATTACH;FMTTYPE=image/jpeg:https://zen-bonn.de/wp-content/uploads/2020/11/Han-San-Bo-Dojo_klein.jpg
ORGANIZER;CN="Zen Dojo Bonn e.V.":MAILTO:info@zen-bonn.de
END:VEVENT
BEGIN:VEVENT
DTSTART;TZID=Europe/Berlin:20221129T190000
DTEND;TZID=Europe/Berlin:20221129T203000
DTSTAMP:20260424T082521
CREATED:20220331T115412Z
LAST-MODIFIED:20260126T113803Z
UID:10001330-1669748400-1669753800@zen-bonn.de
SUMMARY:Zazen im San Bo Dojo
DESCRIPTION:Ein Zen Abend in der Form des Soto Zen\, mit Zazen\, Kin Hin und Rezitation. \nGeleitet von Patrick Ho Kai Damschen. \nUm Anmeldung wird gebeten.
URL:https://zen-bonn.de/termin/zazen-im-san-bo-dojo/2022-11-29/
LOCATION:San Bo Dojo\, Heerstraße 167\, Bonn\, Nordrhein-Westfalen\, 53111\, Deutschland
CATEGORIES:Zen Tag | Zazenkai | Sesshin
ATTACH;FMTTYPE=image/jpeg:https://zen-bonn.de/wp-content/uploads/2020/11/Han-San-Bo-Dojo_klein.jpg
ORGANIZER;CN="Zen Dojo Bonn e.V.":MAILTO:info@zen-bonn.de
END:VEVENT
BEGIN:VEVENT
DTSTART;TZID=Europe/Berlin:20221129T190000
DTEND;TZID=Europe/Berlin:20221129T203000
DTSTAMP:20260424T082521
CREATED:20220331T115412Z
LAST-MODIFIED:20260126T113804Z
UID:10001334-1669748400-1669753800@zen-bonn.de
SUMMARY:Zazen im San Bo Dojo
DESCRIPTION:Ein Zen Abend in der Form des Soto Zen\, mit Zazen\, Kin Hin und Rezitation. \nGeleitet von Patrick Ho Kai Damschen. \nUm Anmeldung wird gebeten.
URL:https://zen-bonn.de/termin/zazen-im-san-bo-dojo/2022-11-29/
LOCATION:San Bo Dojo\, Heerstraße 167\, Bonn\, Nordrhein-Westfalen\, 53111\, Deutschland
CATEGORIES:Zen Tag | Zazenkai | Sesshin
ATTACH;FMTTYPE=image/jpeg:https://zen-bonn.de/wp-content/uploads/2020/11/Han-San-Bo-Dojo_klein.jpg
ORGANIZER;CN="Zen Dojo Bonn e.V.":MAILTO:info@zen-bonn.de
END:VEVENT
BEGIN:VEVENT
DTSTART;TZID=Europe/Berlin:20221129T190000
DTEND;TZID=Europe/Berlin:20221129T203000
DTSTAMP:20260424T082521
CREATED:20220331T115412Z
LAST-MODIFIED:20260126T113804Z
UID:10001337-1669748400-1669753800@zen-bonn.de
SUMMARY:Zazen im San Bo Dojo
DESCRIPTION:Ein Zen Abend in der Form des Soto Zen\, mit Zazen\, Kin Hin und Rezitation. \nGeleitet von Patrick Ho Kai Damschen. \nUm Anmeldung wird gebeten.
URL:https://zen-bonn.de/termin/zazen-im-san-bo-dojo/2022-11-29/
LOCATION:San Bo Dojo\, Heerstraße 167\, Bonn\, Nordrhein-Westfalen\, 53111\, Deutschland
CATEGORIES:Zen Tag | Zazenkai | Sesshin
ATTACH;FMTTYPE=image/jpeg:https://zen-bonn.de/wp-content/uploads/2020/11/Han-San-Bo-Dojo_klein.jpg
ORGANIZER;CN="Zen Dojo Bonn e.V.":MAILTO:info@zen-bonn.de
END:VEVENT
BEGIN:VEVENT
DTSTART;TZID=Europe/Berlin:20221124T190000
DTEND;TZID=Europe/Berlin:20221124T203000
DTSTAMP:20260424T082521
CREATED:20220519T140656Z
LAST-MODIFIED:20220519T141944Z
UID:10001145-1669316400-1669321800@zen-bonn.de
SUMMARY:Zazen im San Bo Dojo (+Zoom)
DESCRIPTION:Ein Zen Abend in der Form des Soto Zen\, mit Zazen\, Kin Hin und Rezitation. \nGeleitet von Patrick Ho Kai Damschen. \nUm Anmeldung wird gebeten. \nDer Zen Abend wird gleichzeitig via Zoom übertragen. Die Einwahldaten können per E-Mail erfragt werden. \n 
URL:https://zen-bonn.de/termin/zazen-im-san-bo-dojo-donnerstag/2022-11-24/
LOCATION:San Bo Dojo\, Heerstraße 167\, Bonn\, Nordrhein-Westfalen\, 53111\, Deutschland
CATEGORIES:Zen Tag | Zazenkai | Sesshin
ATTACH;FMTTYPE=image/jpeg:https://zen-bonn.de/wp-content/uploads/2020/11/Han-San-Bo-Dojo_klein.jpg
ORGANIZER;CN="Zen Dojo Bonn e.V.":MAILTO:info@zen-bonn.de
END:VEVENT
BEGIN:VEVENT
DTSTART;TZID=Europe/Berlin:20221122T190000
DTEND;TZID=Europe/Berlin:20221122T203000
DTSTAMP:20260424T082521
CREATED:20220331T115412Z
LAST-MODIFIED:20220331T123942Z
UID:10001079-1669143600-1669149000@zen-bonn.de
SUMMARY:Zazen im San Bo Dojo
DESCRIPTION:Ein Zen Abend in der Form des Soto Zen\, mit Zazen\, Kin Hin und Rezitation. \nGeleitet von Patrick Ho Kai Damschen. \nUm Anmeldung wird gebeten.
URL:https://zen-bonn.de/termin/zazen-im-san-bo-dojo/2022-11-22/
LOCATION:San Bo Dojo\, Heerstraße 167\, Bonn\, Nordrhein-Westfalen\, 53111\, Deutschland
CATEGORIES:Zen Tag | Zazenkai | Sesshin
ATTACH;FMTTYPE=image/jpeg:https://zen-bonn.de/wp-content/uploads/2020/11/Han-San-Bo-Dojo_klein.jpg
ORGANIZER;CN="Zen Dojo Bonn e.V.":MAILTO:info@zen-bonn.de
END:VEVENT
BEGIN:VEVENT
DTSTART;TZID=Europe/Berlin:20221122T190000
DTEND;TZID=Europe/Berlin:20221122T203000
DTSTAMP:20260424T082521
CREATED:20220331T115412Z
LAST-MODIFIED:20260126T113801Z
UID:10001324-1669143600-1669149000@zen-bonn.de
SUMMARY:Zazen im San Bo Dojo
DESCRIPTION:Ein Zen Abend in der Form des Soto Zen\, mit Zazen\, Kin Hin und Rezitation. \nGeleitet von Patrick Ho Kai Damschen. \nUm Anmeldung wird gebeten.
URL:https://zen-bonn.de/termin/zazen-im-san-bo-dojo/2022-11-22/
LOCATION:San Bo Dojo\, Heerstraße 167\, Bonn\, Nordrhein-Westfalen\, 53111\, Deutschland
CATEGORIES:Zen Tag | Zazenkai | Sesshin
ATTACH;FMTTYPE=image/jpeg:https://zen-bonn.de/wp-content/uploads/2020/11/Han-San-Bo-Dojo_klein.jpg
ORGANIZER;CN="Zen Dojo Bonn e.V.":MAILTO:info@zen-bonn.de
END:VEVENT
BEGIN:VEVENT
DTSTART;TZID=Europe/Berlin:20221122T190000
DTEND;TZID=Europe/Berlin:20221122T203000
DTSTAMP:20260424T082521
CREATED:20220331T115412Z
LAST-MODIFIED:20260126T113803Z
UID:10001329-1669143600-1669149000@zen-bonn.de
SUMMARY:Zazen im San Bo Dojo
DESCRIPTION:Ein Zen Abend in der Form des Soto Zen\, mit Zazen\, Kin Hin und Rezitation. \nGeleitet von Patrick Ho Kai Damschen. \nUm Anmeldung wird gebeten.
URL:https://zen-bonn.de/termin/zazen-im-san-bo-dojo/2022-11-22/
LOCATION:San Bo Dojo\, Heerstraße 167\, Bonn\, Nordrhein-Westfalen\, 53111\, Deutschland
CATEGORIES:Zen Tag | Zazenkai | Sesshin
ATTACH;FMTTYPE=image/jpeg:https://zen-bonn.de/wp-content/uploads/2020/11/Han-San-Bo-Dojo_klein.jpg
ORGANIZER;CN="Zen Dojo Bonn e.V.":MAILTO:info@zen-bonn.de
END:VEVENT
BEGIN:VEVENT
DTSTART;TZID=Europe/Berlin:20221122T190000
DTEND;TZID=Europe/Berlin:20221122T203000
DTSTAMP:20260424T082521
CREATED:20220331T115412Z
LAST-MODIFIED:20260126T113804Z
UID:10001333-1669143600-1669149000@zen-bonn.de
SUMMARY:Zazen im San Bo Dojo
DESCRIPTION:Ein Zen Abend in der Form des Soto Zen\, mit Zazen\, Kin Hin und Rezitation. \nGeleitet von Patrick Ho Kai Damschen. \nUm Anmeldung wird gebeten.
URL:https://zen-bonn.de/termin/zazen-im-san-bo-dojo/2022-11-22/
LOCATION:San Bo Dojo\, Heerstraße 167\, Bonn\, Nordrhein-Westfalen\, 53111\, Deutschland
CATEGORIES:Zen Tag | Zazenkai | Sesshin
ATTACH;FMTTYPE=image/jpeg:https://zen-bonn.de/wp-content/uploads/2020/11/Han-San-Bo-Dojo_klein.jpg
ORGANIZER;CN="Zen Dojo Bonn e.V.":MAILTO:info@zen-bonn.de
END:VEVENT
BEGIN:VEVENT
DTSTART;TZID=Europe/Berlin:20221115T190000
DTEND;TZID=Europe/Berlin:20221115T203000
DTSTAMP:20260424T082521
CREATED:20220331T115412Z
LAST-MODIFIED:20220331T123942Z
UID:10001078-1668538800-1668544200@zen-bonn.de
SUMMARY:Zazen im San Bo Dojo
DESCRIPTION:Ein Zen Abend in der Form des Soto Zen\, mit Zazen\, Kin Hin und Rezitation. \nGeleitet von Patrick Ho Kai Damschen. \nUm Anmeldung wird gebeten.
URL:https://zen-bonn.de/termin/zazen-im-san-bo-dojo/2022-11-15/
LOCATION:San Bo Dojo\, Heerstraße 167\, Bonn\, Nordrhein-Westfalen\, 53111\, Deutschland
CATEGORIES:Zen Tag | Zazenkai | Sesshin
ATTACH;FMTTYPE=image/jpeg:https://zen-bonn.de/wp-content/uploads/2020/11/Han-San-Bo-Dojo_klein.jpg
ORGANIZER;CN="Zen Dojo Bonn e.V.":MAILTO:info@zen-bonn.de
END:VEVENT
BEGIN:VEVENT
DTSTART;TZID=Europe/Berlin:20221115T190000
DTEND;TZID=Europe/Berlin:20221115T203000
DTSTAMP:20260424T082521
CREATED:20220331T115412Z
LAST-MODIFIED:20260126T113801Z
UID:10001323-1668538800-1668544200@zen-bonn.de
SUMMARY:Zazen im San Bo Dojo
DESCRIPTION:Ein Zen Abend in der Form des Soto Zen\, mit Zazen\, Kin Hin und Rezitation. \nGeleitet von Patrick Ho Kai Damschen. \nUm Anmeldung wird gebeten.
URL:https://zen-bonn.de/termin/zazen-im-san-bo-dojo/2022-11-15/
LOCATION:San Bo Dojo\, Heerstraße 167\, Bonn\, Nordrhein-Westfalen\, 53111\, Deutschland
CATEGORIES:Zen Tag | Zazenkai | Sesshin
ATTACH;FMTTYPE=image/jpeg:https://zen-bonn.de/wp-content/uploads/2020/11/Han-San-Bo-Dojo_klein.jpg
ORGANIZER;CN="Zen Dojo Bonn e.V.":MAILTO:info@zen-bonn.de
END:VEVENT
BEGIN:VEVENT
DTSTART;TZID=Europe/Berlin:20221115T190000
DTEND;TZID=Europe/Berlin:20221115T203000
DTSTAMP:20260424T082521
CREATED:20220331T115412Z
LAST-MODIFIED:20260126T113803Z
UID:10001328-1668538800-1668544200@zen-bonn.de
SUMMARY:Zazen im San Bo Dojo
DESCRIPTION:Ein Zen Abend in der Form des Soto Zen\, mit Zazen\, Kin Hin und Rezitation. \nGeleitet von Patrick Ho Kai Damschen. \nUm Anmeldung wird gebeten.
URL:https://zen-bonn.de/termin/zazen-im-san-bo-dojo/2022-11-15/
LOCATION:San Bo Dojo\, Heerstraße 167\, Bonn\, Nordrhein-Westfalen\, 53111\, Deutschland
CATEGORIES:Zen Tag | Zazenkai | Sesshin
ATTACH;FMTTYPE=image/jpeg:https://zen-bonn.de/wp-content/uploads/2020/11/Han-San-Bo-Dojo_klein.jpg
ORGANIZER;CN="Zen Dojo Bonn e.V.":MAILTO:info@zen-bonn.de
END:VEVENT
BEGIN:VEVENT
DTSTART;TZID=Europe/Berlin:20221110T190000
DTEND;TZID=Europe/Berlin:20221110T203000
DTSTAMP:20260424T082521
CREATED:20220519T140656Z
LAST-MODIFIED:20220519T141944Z
UID:10001144-1668106800-1668112200@zen-bonn.de
SUMMARY:Zazen im San Bo Dojo (+Zoom)
DESCRIPTION:Ein Zen Abend in der Form des Soto Zen\, mit Zazen\, Kin Hin und Rezitation. \nGeleitet von Patrick Ho Kai Damschen. \nUm Anmeldung wird gebeten. \nDer Zen Abend wird gleichzeitig via Zoom übertragen. Die Einwahldaten können per E-Mail erfragt werden. \n 
URL:https://zen-bonn.de/termin/zazen-im-san-bo-dojo-donnerstag/2022-11-10/
LOCATION:San Bo Dojo\, Heerstraße 167\, Bonn\, Nordrhein-Westfalen\, 53111\, Deutschland
CATEGORIES:Zen Tag | Zazenkai | Sesshin
ATTACH;FMTTYPE=image/jpeg:https://zen-bonn.de/wp-content/uploads/2020/11/Han-San-Bo-Dojo_klein.jpg
ORGANIZER;CN="Zen Dojo Bonn e.V.":MAILTO:info@zen-bonn.de
END:VEVENT
BEGIN:VEVENT
DTSTART;TZID=Europe/Berlin:20221108T190000
DTEND;TZID=Europe/Berlin:20221108T203000
DTSTAMP:20260424T082521
CREATED:20220331T115412Z
LAST-MODIFIED:20220331T123942Z
UID:10001077-1667934000-1667939400@zen-bonn.de
SUMMARY:Zazen im San Bo Dojo
DESCRIPTION:Ein Zen Abend in der Form des Soto Zen\, mit Zazen\, Kin Hin und Rezitation. \nGeleitet von Patrick Ho Kai Damschen. \nUm Anmeldung wird gebeten.
URL:https://zen-bonn.de/termin/zazen-im-san-bo-dojo/2022-11-08/
LOCATION:San Bo Dojo\, Heerstraße 167\, Bonn\, Nordrhein-Westfalen\, 53111\, Deutschland
CATEGORIES:Zen Tag | Zazenkai | Sesshin
ATTACH;FMTTYPE=image/jpeg:https://zen-bonn.de/wp-content/uploads/2020/11/Han-San-Bo-Dojo_klein.jpg
ORGANIZER;CN="Zen Dojo Bonn e.V.":MAILTO:info@zen-bonn.de
END:VEVENT
BEGIN:VEVENT
DTSTART;TZID=Europe/Berlin:20221108T190000
DTEND;TZID=Europe/Berlin:20221108T203000
DTSTAMP:20260424T082521
CREATED:20220331T115412Z
LAST-MODIFIED:20260126T113801Z
UID:10001322-1667934000-1667939400@zen-bonn.de
SUMMARY:Zazen im San Bo Dojo
DESCRIPTION:Ein Zen Abend in der Form des Soto Zen\, mit Zazen\, Kin Hin und Rezitation. \nGeleitet von Patrick Ho Kai Damschen. \nUm Anmeldung wird gebeten.
URL:https://zen-bonn.de/termin/zazen-im-san-bo-dojo/2022-11-08/
LOCATION:San Bo Dojo\, Heerstraße 167\, Bonn\, Nordrhein-Westfalen\, 53111\, Deutschland
CATEGORIES:Zen Tag | Zazenkai | Sesshin
ATTACH;FMTTYPE=image/jpeg:https://zen-bonn.de/wp-content/uploads/2020/11/Han-San-Bo-Dojo_klein.jpg
ORGANIZER;CN="Zen Dojo Bonn e.V.":MAILTO:info@zen-bonn.de
END:VEVENT
BEGIN:VEVENT
DTSTART;TZID=Europe/Berlin:20221103T190000
DTEND;TZID=Europe/Berlin:20221103T203000
DTSTAMP:20260424T082521
CREATED:20220519T140656Z
LAST-MODIFIED:20220519T141944Z
UID:10001143-1667502000-1667507400@zen-bonn.de
SUMMARY:Zazen im San Bo Dojo (+Zoom)
DESCRIPTION:Ein Zen Abend in der Form des Soto Zen\, mit Zazen\, Kin Hin und Rezitation. \nGeleitet von Patrick Ho Kai Damschen. \nUm Anmeldung wird gebeten. \nDer Zen Abend wird gleichzeitig via Zoom übertragen. Die Einwahldaten können per E-Mail erfragt werden. \n 
URL:https://zen-bonn.de/termin/zazen-im-san-bo-dojo-donnerstag/2022-11-03/
LOCATION:San Bo Dojo\, Heerstraße 167\, Bonn\, Nordrhein-Westfalen\, 53111\, Deutschland
CATEGORIES:Zen Tag | Zazenkai | Sesshin
ATTACH;FMTTYPE=image/jpeg:https://zen-bonn.de/wp-content/uploads/2020/11/Han-San-Bo-Dojo_klein.jpg
ORGANIZER;CN="Zen Dojo Bonn e.V.":MAILTO:info@zen-bonn.de
END:VEVENT
BEGIN:VEVENT
DTSTART;TZID=Europe/Berlin:20221101T190000
DTEND;TZID=Europe/Berlin:20221101T203000
DTSTAMP:20260424T082521
CREATED:20220331T115412Z
LAST-MODIFIED:20220331T123942Z
UID:10001076-1667329200-1667334600@zen-bonn.de
SUMMARY:Zazen im San Bo Dojo
DESCRIPTION:Ein Zen Abend in der Form des Soto Zen\, mit Zazen\, Kin Hin und Rezitation. \nGeleitet von Patrick Ho Kai Damschen. \nUm Anmeldung wird gebeten.
URL:https://zen-bonn.de/termin/zazen-im-san-bo-dojo/2022-11-01/
LOCATION:San Bo Dojo\, Heerstraße 167\, Bonn\, Nordrhein-Westfalen\, 53111\, Deutschland
CATEGORIES:Zen Tag | Zazenkai | Sesshin
ATTACH;FMTTYPE=image/jpeg:https://zen-bonn.de/wp-content/uploads/2020/11/Han-San-Bo-Dojo_klein.jpg
ORGANIZER;CN="Zen Dojo Bonn e.V.":MAILTO:info@zen-bonn.de
END:VEVENT
BEGIN:VEVENT
DTSTART;TZID=Europe/Berlin:20221027T190000
DTEND;TZID=Europe/Berlin:20221027T203000
DTSTAMP:20260424T082521
CREATED:20220519T140656Z
LAST-MODIFIED:20220519T141944Z
UID:10001142-1666897200-1666902600@zen-bonn.de
SUMMARY:Zazen im San Bo Dojo (+Zoom)
DESCRIPTION:Ein Zen Abend in der Form des Soto Zen\, mit Zazen\, Kin Hin und Rezitation. \nGeleitet von Patrick Ho Kai Damschen. \nUm Anmeldung wird gebeten. \nDer Zen Abend wird gleichzeitig via Zoom übertragen. Die Einwahldaten können per E-Mail erfragt werden. \n 
URL:https://zen-bonn.de/termin/zazen-im-san-bo-dojo-donnerstag/2022-10-27/
LOCATION:San Bo Dojo\, Heerstraße 167\, Bonn\, Nordrhein-Westfalen\, 53111\, Deutschland
CATEGORIES:Zen Tag | Zazenkai | Sesshin
ATTACH;FMTTYPE=image/jpeg:https://zen-bonn.de/wp-content/uploads/2020/11/Han-San-Bo-Dojo_klein.jpg
ORGANIZER;CN="Zen Dojo Bonn e.V.":MAILTO:info@zen-bonn.de
END:VEVENT
BEGIN:VEVENT
DTSTART;TZID=Europe/Berlin:20221025T190000
DTEND;TZID=Europe/Berlin:20221025T203000
DTSTAMP:20260424T082521
CREATED:20220331T115412Z
LAST-MODIFIED:20220331T123942Z
UID:10001075-1666724400-1666729800@zen-bonn.de
SUMMARY:Zazen im San Bo Dojo
DESCRIPTION:Ein Zen Abend in der Form des Soto Zen\, mit Zazen\, Kin Hin und Rezitation. \nGeleitet von Patrick Ho Kai Damschen. \nUm Anmeldung wird gebeten.
URL:https://zen-bonn.de/termin/zazen-im-san-bo-dojo/2022-10-25/
LOCATION:San Bo Dojo\, Heerstraße 167\, Bonn\, Nordrhein-Westfalen\, 53111\, Deutschland
CATEGORIES:Zen Tag | Zazenkai | Sesshin
ATTACH;FMTTYPE=image/jpeg:https://zen-bonn.de/wp-content/uploads/2020/11/Han-San-Bo-Dojo_klein.jpg
ORGANIZER;CN="Zen Dojo Bonn e.V.":MAILTO:info@zen-bonn.de
END:VEVENT
BEGIN:VEVENT
DTSTART;TZID=Europe/Berlin:20221020T190000
DTEND;TZID=Europe/Berlin:20221020T203000
DTSTAMP:20260424T082521
CREATED:20220519T140656Z
LAST-MODIFIED:20220519T141944Z
UID:10001141-1666292400-1666297800@zen-bonn.de
SUMMARY:Zazen im San Bo Dojo (+Zoom)
DESCRIPTION:Ein Zen Abend in der Form des Soto Zen\, mit Zazen\, Kin Hin und Rezitation. \nGeleitet von Patrick Ho Kai Damschen. \nUm Anmeldung wird gebeten. \nDer Zen Abend wird gleichzeitig via Zoom übertragen. Die Einwahldaten können per E-Mail erfragt werden. \n 
URL:https://zen-bonn.de/termin/zazen-im-san-bo-dojo-donnerstag/2022-10-20/
LOCATION:San Bo Dojo\, Heerstraße 167\, Bonn\, Nordrhein-Westfalen\, 53111\, Deutschland
CATEGORIES:Zen Tag | Zazenkai | Sesshin
ATTACH;FMTTYPE=image/jpeg:https://zen-bonn.de/wp-content/uploads/2020/11/Han-San-Bo-Dojo_klein.jpg
ORGANIZER;CN="Zen Dojo Bonn e.V.":MAILTO:info@zen-bonn.de
END:VEVENT
BEGIN:VEVENT
DTSTART;TZID=Europe/Berlin:20221018T190000
DTEND;TZID=Europe/Berlin:20221018T210000
DTSTAMP:20260424T082521
CREATED:20220831T141111Z
LAST-MODIFIED:20221017T111338Z
UID:10001163-1666119600-1666126800@zen-bonn.de
SUMMARY:Zen und Sensory Awareness Workshop
DESCRIPTION:„Kommen und Gehen sind der wahre Körper“ (Dogen) \nDas was wir Körper nennen\, unsere Leiblichkeit\, ist eine bedingte\, veränderliche Form\, die wir allzu oft als gegeben und selbstverständlich annehmen. Erst wenn Schmerzen oder Gebrechen auftauchen\, wenden wir uns dem Geschehen zu. \nZen und Sensory Awareness bieten eine Möglichkeit\, den ständigen Dialog zu erforschen\, der wir sind\, gemeinsam mit dem Boden\, dem Raum\, der Luft. \nStefan Laeng und Patrick Ho Kai bieten an diesem Abend eine Gelegenheit\, die bereichernde Verbindung von Zen und Sensory Awareness kennenzulernen. Der Workshop enthält Phasen klassischer Zen Praxis sowie Anteile von Sensory Awareness. \nDer Workshop findet auf Spendenbasis statt. \nStefan Laeng ist Sensory Awareness Lehrer. Er lebt in Peterborough\, New Hampshire\, USA und arbeitet regelmässig auch in Europa. Er ist Executive Director der Sensory Awareness Foundation. Gegenwärtig arbeitet er an einer ausführlichen Biographie über Charlotte Selver. Seit den frühen 1980er Jahren sind Sensory Awareness und Buddhismus richtungsweisend in seinem Leben und seiner Arbeit.
URL:https://zen-bonn.de/termin/zen-und-sensory-awareness-im-san-bo-dojo/
LOCATION:San Bo Dojo\, Heerstraße 167\, Bonn\, Nordrhein-Westfalen\, 53111\, Deutschland
CATEGORIES:featured,Workshop | Seminar
ATTACH;FMTTYPE=image/jpeg:https://zen-bonn.de/wp-content/uploads/2020/09/Facebook-Zen-Sensory-10-2021.jpg
ORGANIZER;CN="Zen Dojo Bonn e.V.":MAILTO:info@zen-bonn.de
END:VEVENT
BEGIN:VEVENT
DTSTART;TZID=Europe/Berlin:20221013T190000
DTEND;TZID=Europe/Berlin:20221013T203000
DTSTAMP:20260424T082521
CREATED:20220519T140656Z
LAST-MODIFIED:20220519T141944Z
UID:10001140-1665687600-1665693000@zen-bonn.de
SUMMARY:Zazen im San Bo Dojo (+Zoom)
DESCRIPTION:Ein Zen Abend in der Form des Soto Zen\, mit Zazen\, Kin Hin und Rezitation. \nGeleitet von Patrick Ho Kai Damschen. \nUm Anmeldung wird gebeten. \nDer Zen Abend wird gleichzeitig via Zoom übertragen. Die Einwahldaten können per E-Mail erfragt werden. \n 
URL:https://zen-bonn.de/termin/zazen-im-san-bo-dojo-donnerstag/2022-10-13/
LOCATION:San Bo Dojo\, Heerstraße 167\, Bonn\, Nordrhein-Westfalen\, 53111\, Deutschland
CATEGORIES:Zen Tag | Zazenkai | Sesshin
ATTACH;FMTTYPE=image/jpeg:https://zen-bonn.de/wp-content/uploads/2020/11/Han-San-Bo-Dojo_klein.jpg
ORGANIZER;CN="Zen Dojo Bonn e.V.":MAILTO:info@zen-bonn.de
END:VEVENT
BEGIN:VEVENT
DTSTART;TZID=Europe/Berlin:20221011T190000
DTEND;TZID=Europe/Berlin:20221011T203000
DTSTAMP:20260424T082521
CREATED:20220331T115412Z
LAST-MODIFIED:20220331T123942Z
UID:10001074-1665514800-1665520200@zen-bonn.de
SUMMARY:Zazen im San Bo Dojo
DESCRIPTION:Ein Zen Abend in der Form des Soto Zen\, mit Zazen\, Kin Hin und Rezitation. \nGeleitet von Patrick Ho Kai Damschen. \nUm Anmeldung wird gebeten.
URL:https://zen-bonn.de/termin/zazen-im-san-bo-dojo/2022-10-11/
LOCATION:San Bo Dojo\, Heerstraße 167\, Bonn\, Nordrhein-Westfalen\, 53111\, Deutschland
CATEGORIES:Zen Tag | Zazenkai | Sesshin
ATTACH;FMTTYPE=image/jpeg:https://zen-bonn.de/wp-content/uploads/2020/11/Han-San-Bo-Dojo_klein.jpg
ORGANIZER;CN="Zen Dojo Bonn e.V.":MAILTO:info@zen-bonn.de
END:VEVENT
END:VCALENDAR