BEGIN:VCALENDAR
VERSION:2.0
PRODID:-//San Bo Dojo und Kô Getsu An - ECPv6.15.20//NONSGML v1.0//EN
CALSCALE:GREGORIAN
METHOD:PUBLISH
X-ORIGINAL-URL:https://zen-bonn.de
X-WR-CALDESC:Veranstaltungen für San Bo Dojo und Kô Getsu An
REFRESH-INTERVAL;VALUE=DURATION:PT1H
X-Robots-Tag:noindex
X-PUBLISHED-TTL:PT1H
BEGIN:VTIMEZONE
TZID:Europe/Berlin
BEGIN:DAYLIGHT
TZOFFSETFROM:+0100
TZOFFSETTO:+0200
TZNAME:CEST
DTSTART:20210328T010000
END:DAYLIGHT
BEGIN:STANDARD
TZOFFSETFROM:+0200
TZOFFSETTO:+0100
TZNAME:CET
DTSTART:20211031T010000
END:STANDARD
BEGIN:DAYLIGHT
TZOFFSETFROM:+0100
TZOFFSETTO:+0200
TZNAME:CEST
DTSTART:20220327T010000
END:DAYLIGHT
BEGIN:STANDARD
TZOFFSETFROM:+0200
TZOFFSETTO:+0100
TZNAME:CET
DTSTART:20221030T010000
END:STANDARD
BEGIN:DAYLIGHT
TZOFFSETFROM:+0100
TZOFFSETTO:+0200
TZNAME:CEST
DTSTART:20230326T010000
END:DAYLIGHT
BEGIN:STANDARD
TZOFFSETFROM:+0200
TZOFFSETTO:+0100
TZNAME:CET
DTSTART:20231029T010000
END:STANDARD
END:VTIMEZONE
BEGIN:VEVENT
DTSTART;TZID=Europe/Berlin:20220804T190000
DTEND;TZID=Europe/Berlin:20220804T203000
DTSTAMP:20260425T044542
CREATED:20220519T140656Z
LAST-MODIFIED:20220519T141944Z
UID:10001130-1659639600-1659645000@zen-bonn.de
SUMMARY:Zazen im San Bo Dojo (+Zoom)
DESCRIPTION:Ein Zen Abend in der Form des Soto Zen\, mit Zazen\, Kin Hin und Rezitation. \nGeleitet von Patrick Ho Kai Damschen. \nUm Anmeldung wird gebeten. \nDer Zen Abend wird gleichzeitig via Zoom übertragen. Die Einwahldaten können per E-Mail erfragt werden. \n 
URL:https://zen-bonn.de/termin/zazen-im-san-bo-dojo-donnerstag/2022-08-04/
LOCATION:San Bo Dojo\, Heerstraße 167\, Bonn\, Nordrhein-Westfalen\, 53111\, Deutschland
CATEGORIES:Zen Tag | Zazenkai | Sesshin
ATTACH;FMTTYPE=image/jpeg:https://zen-bonn.de/wp-content/uploads/2020/11/Han-San-Bo-Dojo_klein.jpg
ORGANIZER;CN="Zen Dojo Bonn e.V.":MAILTO:info@zen-bonn.de
END:VEVENT
BEGIN:VEVENT
DTSTART;TZID=Europe/Berlin:20220802T190000
DTEND;TZID=Europe/Berlin:20220802T203000
DTSTAMP:20260425T044542
CREATED:20220331T115412Z
LAST-MODIFIED:20220331T123942Z
UID:10001065-1659466800-1659472200@zen-bonn.de
SUMMARY:Zazen im San Bo Dojo
DESCRIPTION:Ein Zen Abend in der Form des Soto Zen\, mit Zazen\, Kin Hin und Rezitation. \nGeleitet von Patrick Ho Kai Damschen. \nUm Anmeldung wird gebeten.
URL:https://zen-bonn.de/termin/zazen-im-san-bo-dojo/2022-08-02/
LOCATION:San Bo Dojo\, Heerstraße 167\, Bonn\, Nordrhein-Westfalen\, 53111\, Deutschland
CATEGORIES:Zen Tag | Zazenkai | Sesshin
ATTACH;FMTTYPE=image/jpeg:https://zen-bonn.de/wp-content/uploads/2020/11/Han-San-Bo-Dojo_klein.jpg
ORGANIZER;CN="Zen Dojo Bonn e.V.":MAILTO:info@zen-bonn.de
END:VEVENT
BEGIN:VEVENT
DTSTART;TZID=Europe/Berlin:20220728T190000
DTEND;TZID=Europe/Berlin:20220728T203000
DTSTAMP:20260425T044542
CREATED:20220519T140656Z
LAST-MODIFIED:20220519T141944Z
UID:10001129-1659034800-1659040200@zen-bonn.de
SUMMARY:Zazen im San Bo Dojo (+Zoom)
DESCRIPTION:Ein Zen Abend in der Form des Soto Zen\, mit Zazen\, Kin Hin und Rezitation. \nGeleitet von Patrick Ho Kai Damschen. \nUm Anmeldung wird gebeten. \nDer Zen Abend wird gleichzeitig via Zoom übertragen. Die Einwahldaten können per E-Mail erfragt werden. \n 
URL:https://zen-bonn.de/termin/zazen-im-san-bo-dojo-donnerstag/2022-07-28/
LOCATION:San Bo Dojo\, Heerstraße 167\, Bonn\, Nordrhein-Westfalen\, 53111\, Deutschland
CATEGORIES:Zen Tag | Zazenkai | Sesshin
ATTACH;FMTTYPE=image/jpeg:https://zen-bonn.de/wp-content/uploads/2020/11/Han-San-Bo-Dojo_klein.jpg
ORGANIZER;CN="Zen Dojo Bonn e.V.":MAILTO:info@zen-bonn.de
END:VEVENT
BEGIN:VEVENT
DTSTART;TZID=Europe/Berlin:20220726T190000
DTEND;TZID=Europe/Berlin:20220726T203000
DTSTAMP:20260425T044542
CREATED:20220331T115412Z
LAST-MODIFIED:20220331T123942Z
UID:10001064-1658862000-1658867400@zen-bonn.de
SUMMARY:Zazen im San Bo Dojo
DESCRIPTION:Ein Zen Abend in der Form des Soto Zen\, mit Zazen\, Kin Hin und Rezitation. \nGeleitet von Patrick Ho Kai Damschen. \nUm Anmeldung wird gebeten.
URL:https://zen-bonn.de/termin/zazen-im-san-bo-dojo/2022-07-26/
LOCATION:San Bo Dojo\, Heerstraße 167\, Bonn\, Nordrhein-Westfalen\, 53111\, Deutschland
CATEGORIES:Zen Tag | Zazenkai | Sesshin
ATTACH;FMTTYPE=image/jpeg:https://zen-bonn.de/wp-content/uploads/2020/11/Han-San-Bo-Dojo_klein.jpg
ORGANIZER;CN="Zen Dojo Bonn e.V.":MAILTO:info@zen-bonn.de
END:VEVENT
BEGIN:VEVENT
DTSTART;TZID=Europe/Berlin:20220721T190000
DTEND;TZID=Europe/Berlin:20220721T203000
DTSTAMP:20260425T044542
CREATED:20220519T140656Z
LAST-MODIFIED:20220519T141944Z
UID:10001128-1658430000-1658435400@zen-bonn.de
SUMMARY:Zazen im San Bo Dojo (+Zoom)
DESCRIPTION:Ein Zen Abend in der Form des Soto Zen\, mit Zazen\, Kin Hin und Rezitation. \nGeleitet von Patrick Ho Kai Damschen. \nUm Anmeldung wird gebeten. \nDer Zen Abend wird gleichzeitig via Zoom übertragen. Die Einwahldaten können per E-Mail erfragt werden. \n 
URL:https://zen-bonn.de/termin/zazen-im-san-bo-dojo-donnerstag/2022-07-21/
LOCATION:San Bo Dojo\, Heerstraße 167\, Bonn\, Nordrhein-Westfalen\, 53111\, Deutschland
CATEGORIES:Zen Tag | Zazenkai | Sesshin
ATTACH;FMTTYPE=image/jpeg:https://zen-bonn.de/wp-content/uploads/2020/11/Han-San-Bo-Dojo_klein.jpg
ORGANIZER;CN="Zen Dojo Bonn e.V.":MAILTO:info@zen-bonn.de
END:VEVENT
BEGIN:VEVENT
DTSTART;TZID=Europe/Berlin:20220719T190000
DTEND;TZID=Europe/Berlin:20220719T203000
DTSTAMP:20260425T044542
CREATED:20220331T115412Z
LAST-MODIFIED:20220331T123942Z
UID:10001063-1658257200-1658262600@zen-bonn.de
SUMMARY:Zazen im San Bo Dojo
DESCRIPTION:Ein Zen Abend in der Form des Soto Zen\, mit Zazen\, Kin Hin und Rezitation. \nGeleitet von Patrick Ho Kai Damschen. \nUm Anmeldung wird gebeten.
URL:https://zen-bonn.de/termin/zazen-im-san-bo-dojo/2022-07-19/
LOCATION:San Bo Dojo\, Heerstraße 167\, Bonn\, Nordrhein-Westfalen\, 53111\, Deutschland
CATEGORIES:Zen Tag | Zazenkai | Sesshin
ATTACH;FMTTYPE=image/jpeg:https://zen-bonn.de/wp-content/uploads/2020/11/Han-San-Bo-Dojo_klein.jpg
ORGANIZER;CN="Zen Dojo Bonn e.V.":MAILTO:info@zen-bonn.de
END:VEVENT
BEGIN:VEVENT
DTSTART;TZID=Europe/Berlin:20220714T190000
DTEND;TZID=Europe/Berlin:20220714T203000
DTSTAMP:20260425T044542
CREATED:20220519T140656Z
LAST-MODIFIED:20220519T141944Z
UID:10001127-1657825200-1657830600@zen-bonn.de
SUMMARY:Zazen im San Bo Dojo (+Zoom)
DESCRIPTION:Ein Zen Abend in der Form des Soto Zen\, mit Zazen\, Kin Hin und Rezitation. \nGeleitet von Patrick Ho Kai Damschen. \nUm Anmeldung wird gebeten. \nDer Zen Abend wird gleichzeitig via Zoom übertragen. Die Einwahldaten können per E-Mail erfragt werden. \n 
URL:https://zen-bonn.de/termin/zazen-im-san-bo-dojo-donnerstag/2022-07-14/
LOCATION:San Bo Dojo\, Heerstraße 167\, Bonn\, Nordrhein-Westfalen\, 53111\, Deutschland
CATEGORIES:Zen Tag | Zazenkai | Sesshin
ATTACH;FMTTYPE=image/jpeg:https://zen-bonn.de/wp-content/uploads/2020/11/Han-San-Bo-Dojo_klein.jpg
ORGANIZER;CN="Zen Dojo Bonn e.V.":MAILTO:info@zen-bonn.de
END:VEVENT
BEGIN:VEVENT
DTSTART;TZID=Europe/Berlin:20220712T190000
DTEND;TZID=Europe/Berlin:20220712T203000
DTSTAMP:20260425T044542
CREATED:20220331T115412Z
LAST-MODIFIED:20220331T123942Z
UID:10001062-1657652400-1657657800@zen-bonn.de
SUMMARY:Zazen im San Bo Dojo
DESCRIPTION:Ein Zen Abend in der Form des Soto Zen\, mit Zazen\, Kin Hin und Rezitation. \nGeleitet von Patrick Ho Kai Damschen. \nUm Anmeldung wird gebeten.
URL:https://zen-bonn.de/termin/zazen-im-san-bo-dojo/2022-07-12/
LOCATION:San Bo Dojo\, Heerstraße 167\, Bonn\, Nordrhein-Westfalen\, 53111\, Deutschland
CATEGORIES:Zen Tag | Zazenkai | Sesshin
ATTACH;FMTTYPE=image/jpeg:https://zen-bonn.de/wp-content/uploads/2020/11/Han-San-Bo-Dojo_klein.jpg
ORGANIZER;CN="Zen Dojo Bonn e.V.":MAILTO:info@zen-bonn.de
END:VEVENT
BEGIN:VEVENT
DTSTART;TZID=Europe/Berlin:20220707T190000
DTEND;TZID=Europe/Berlin:20220707T203000
DTSTAMP:20260425T044542
CREATED:20220519T140656Z
LAST-MODIFIED:20220519T141944Z
UID:10001126-1657220400-1657225800@zen-bonn.de
SUMMARY:Zazen im San Bo Dojo (+Zoom)
DESCRIPTION:Ein Zen Abend in der Form des Soto Zen\, mit Zazen\, Kin Hin und Rezitation. \nGeleitet von Patrick Ho Kai Damschen. \nUm Anmeldung wird gebeten. \nDer Zen Abend wird gleichzeitig via Zoom übertragen. Die Einwahldaten können per E-Mail erfragt werden. \n 
URL:https://zen-bonn.de/termin/zazen-im-san-bo-dojo-donnerstag/2022-07-07/
LOCATION:San Bo Dojo\, Heerstraße 167\, Bonn\, Nordrhein-Westfalen\, 53111\, Deutschland
CATEGORIES:Zen Tag | Zazenkai | Sesshin
ATTACH;FMTTYPE=image/jpeg:https://zen-bonn.de/wp-content/uploads/2020/11/Han-San-Bo-Dojo_klein.jpg
ORGANIZER;CN="Zen Dojo Bonn e.V.":MAILTO:info@zen-bonn.de
END:VEVENT
BEGIN:VEVENT
DTSTART;TZID=Europe/Berlin:20220705T190000
DTEND;TZID=Europe/Berlin:20220705T203000
DTSTAMP:20260425T044542
CREATED:20220331T115412Z
LAST-MODIFIED:20220331T123942Z
UID:10001061-1657047600-1657053000@zen-bonn.de
SUMMARY:Zazen im San Bo Dojo
DESCRIPTION:Ein Zen Abend in der Form des Soto Zen\, mit Zazen\, Kin Hin und Rezitation. \nGeleitet von Patrick Ho Kai Damschen. \nUm Anmeldung wird gebeten.
URL:https://zen-bonn.de/termin/zazen-im-san-bo-dojo/2022-07-05/
LOCATION:San Bo Dojo\, Heerstraße 167\, Bonn\, Nordrhein-Westfalen\, 53111\, Deutschland
CATEGORIES:Zen Tag | Zazenkai | Sesshin
ATTACH;FMTTYPE=image/jpeg:https://zen-bonn.de/wp-content/uploads/2020/11/Han-San-Bo-Dojo_klein.jpg
ORGANIZER;CN="Zen Dojo Bonn e.V.":MAILTO:info@zen-bonn.de
END:VEVENT
BEGIN:VEVENT
DTSTART;TZID=Europe/Berlin:20220630T190000
DTEND;TZID=Europe/Berlin:20220630T203000
DTSTAMP:20260425T044542
CREATED:20220519T140656Z
LAST-MODIFIED:20220519T141944Z
UID:10001125-1656615600-1656621000@zen-bonn.de
SUMMARY:Zazen im San Bo Dojo (+Zoom)
DESCRIPTION:Ein Zen Abend in der Form des Soto Zen\, mit Zazen\, Kin Hin und Rezitation. \nGeleitet von Patrick Ho Kai Damschen. \nUm Anmeldung wird gebeten. \nDer Zen Abend wird gleichzeitig via Zoom übertragen. Die Einwahldaten können per E-Mail erfragt werden. \n 
URL:https://zen-bonn.de/termin/zazen-im-san-bo-dojo-donnerstag/2022-06-30/
LOCATION:San Bo Dojo\, Heerstraße 167\, Bonn\, Nordrhein-Westfalen\, 53111\, Deutschland
CATEGORIES:Zen Tag | Zazenkai | Sesshin
ATTACH;FMTTYPE=image/jpeg:https://zen-bonn.de/wp-content/uploads/2020/11/Han-San-Bo-Dojo_klein.jpg
ORGANIZER;CN="Zen Dojo Bonn e.V.":MAILTO:info@zen-bonn.de
END:VEVENT
BEGIN:VEVENT
DTSTART;TZID=Europe/Berlin:20220628T190000
DTEND;TZID=Europe/Berlin:20220628T203000
DTSTAMP:20260425T044542
CREATED:20220331T115412Z
LAST-MODIFIED:20220331T123942Z
UID:10001060-1656442800-1656448200@zen-bonn.de
SUMMARY:Zazen im San Bo Dojo
DESCRIPTION:Ein Zen Abend in der Form des Soto Zen\, mit Zazen\, Kin Hin und Rezitation. \nGeleitet von Patrick Ho Kai Damschen. \nUm Anmeldung wird gebeten.
URL:https://zen-bonn.de/termin/zazen-im-san-bo-dojo/2022-06-28/
LOCATION:San Bo Dojo\, Heerstraße 167\, Bonn\, Nordrhein-Westfalen\, 53111\, Deutschland
CATEGORIES:Zen Tag | Zazenkai | Sesshin
ATTACH;FMTTYPE=image/jpeg:https://zen-bonn.de/wp-content/uploads/2020/11/Han-San-Bo-Dojo_klein.jpg
ORGANIZER;CN="Zen Dojo Bonn e.V.":MAILTO:info@zen-bonn.de
END:VEVENT
BEGIN:VEVENT
DTSTART;TZID=Europe/Berlin:20220623T190000
DTEND;TZID=Europe/Berlin:20220623T203000
DTSTAMP:20260425T044542
CREATED:20220519T140656Z
LAST-MODIFIED:20220519T141944Z
UID:10001124-1656010800-1656016200@zen-bonn.de
SUMMARY:Zazen im San Bo Dojo (+Zoom)
DESCRIPTION:Ein Zen Abend in der Form des Soto Zen\, mit Zazen\, Kin Hin und Rezitation. \nGeleitet von Patrick Ho Kai Damschen. \nUm Anmeldung wird gebeten. \nDer Zen Abend wird gleichzeitig via Zoom übertragen. Die Einwahldaten können per E-Mail erfragt werden. \n 
URL:https://zen-bonn.de/termin/zazen-im-san-bo-dojo-donnerstag/2022-06-23/
LOCATION:San Bo Dojo\, Heerstraße 167\, Bonn\, Nordrhein-Westfalen\, 53111\, Deutschland
CATEGORIES:Zen Tag | Zazenkai | Sesshin
ATTACH;FMTTYPE=image/jpeg:https://zen-bonn.de/wp-content/uploads/2020/11/Han-San-Bo-Dojo_klein.jpg
ORGANIZER;CN="Zen Dojo Bonn e.V.":MAILTO:info@zen-bonn.de
END:VEVENT
BEGIN:VEVENT
DTSTART;TZID=Europe/Berlin:20220621T190000
DTEND;TZID=Europe/Berlin:20220621T203000
DTSTAMP:20260425T044542
CREATED:20220331T115412Z
LAST-MODIFIED:20220331T123942Z
UID:10001059-1655838000-1655843400@zen-bonn.de
SUMMARY:Zazen im San Bo Dojo
DESCRIPTION:Ein Zen Abend in der Form des Soto Zen\, mit Zazen\, Kin Hin und Rezitation. \nGeleitet von Patrick Ho Kai Damschen. \nUm Anmeldung wird gebeten.
URL:https://zen-bonn.de/termin/zazen-im-san-bo-dojo/2022-06-21/
LOCATION:San Bo Dojo\, Heerstraße 167\, Bonn\, Nordrhein-Westfalen\, 53111\, Deutschland
CATEGORIES:Zen Tag | Zazenkai | Sesshin
ATTACH;FMTTYPE=image/jpeg:https://zen-bonn.de/wp-content/uploads/2020/11/Han-San-Bo-Dojo_klein.jpg
ORGANIZER;CN="Zen Dojo Bonn e.V.":MAILTO:info@zen-bonn.de
END:VEVENT
BEGIN:VEVENT
DTSTART;TZID=Europe/Berlin:20220616T190000
DTEND;TZID=Europe/Berlin:20220616T203000
DTSTAMP:20260425T044542
CREATED:20220519T140656Z
LAST-MODIFIED:20220519T141944Z
UID:10001123-1655406000-1655411400@zen-bonn.de
SUMMARY:Zazen im San Bo Dojo (+Zoom)
DESCRIPTION:Ein Zen Abend in der Form des Soto Zen\, mit Zazen\, Kin Hin und Rezitation. \nGeleitet von Patrick Ho Kai Damschen. \nUm Anmeldung wird gebeten. \nDer Zen Abend wird gleichzeitig via Zoom übertragen. Die Einwahldaten können per E-Mail erfragt werden. \n 
URL:https://zen-bonn.de/termin/zazen-im-san-bo-dojo-donnerstag/2022-06-16/
LOCATION:San Bo Dojo\, Heerstraße 167\, Bonn\, Nordrhein-Westfalen\, 53111\, Deutschland
CATEGORIES:Zen Tag | Zazenkai | Sesshin
ATTACH;FMTTYPE=image/jpeg:https://zen-bonn.de/wp-content/uploads/2020/11/Han-San-Bo-Dojo_klein.jpg
ORGANIZER;CN="Zen Dojo Bonn e.V.":MAILTO:info@zen-bonn.de
END:VEVENT
BEGIN:VEVENT
DTSTART;TZID=Europe/Berlin:20220614T190000
DTEND;TZID=Europe/Berlin:20220614T203000
DTSTAMP:20260425T044542
CREATED:20220331T115412Z
LAST-MODIFIED:20220331T123942Z
UID:10001058-1655233200-1655238600@zen-bonn.de
SUMMARY:Zazen im San Bo Dojo
DESCRIPTION:Ein Zen Abend in der Form des Soto Zen\, mit Zazen\, Kin Hin und Rezitation. \nGeleitet von Patrick Ho Kai Damschen. \nUm Anmeldung wird gebeten.
URL:https://zen-bonn.de/termin/zazen-im-san-bo-dojo/2022-06-14/
LOCATION:San Bo Dojo\, Heerstraße 167\, Bonn\, Nordrhein-Westfalen\, 53111\, Deutschland
CATEGORIES:Zen Tag | Zazenkai | Sesshin
ATTACH;FMTTYPE=image/jpeg:https://zen-bonn.de/wp-content/uploads/2020/11/Han-San-Bo-Dojo_klein.jpg
ORGANIZER;CN="Zen Dojo Bonn e.V.":MAILTO:info@zen-bonn.de
END:VEVENT
BEGIN:VEVENT
DTSTART;TZID=Europe/Berlin:20220609T190000
DTEND;TZID=Europe/Berlin:20220609T203000
DTSTAMP:20260425T044542
CREATED:20220519T140656Z
LAST-MODIFIED:20220519T141944Z
UID:10001122-1654801200-1654806600@zen-bonn.de
SUMMARY:Zazen im San Bo Dojo (+Zoom)
DESCRIPTION:Ein Zen Abend in der Form des Soto Zen\, mit Zazen\, Kin Hin und Rezitation. \nGeleitet von Patrick Ho Kai Damschen. \nUm Anmeldung wird gebeten. \nDer Zen Abend wird gleichzeitig via Zoom übertragen. Die Einwahldaten können per E-Mail erfragt werden. \n 
URL:https://zen-bonn.de/termin/zazen-im-san-bo-dojo-donnerstag/2022-06-09/
LOCATION:San Bo Dojo\, Heerstraße 167\, Bonn\, Nordrhein-Westfalen\, 53111\, Deutschland
CATEGORIES:Zen Tag | Zazenkai | Sesshin
ATTACH;FMTTYPE=image/jpeg:https://zen-bonn.de/wp-content/uploads/2020/11/Han-San-Bo-Dojo_klein.jpg
ORGANIZER;CN="Zen Dojo Bonn e.V.":MAILTO:info@zen-bonn.de
END:VEVENT
BEGIN:VEVENT
DTSTART;TZID=Europe/Berlin:20220607T190000
DTEND;TZID=Europe/Berlin:20220607T203000
DTSTAMP:20260425T044542
CREATED:20220331T115412Z
LAST-MODIFIED:20220331T123942Z
UID:10001057-1654628400-1654633800@zen-bonn.de
SUMMARY:Zazen im San Bo Dojo
DESCRIPTION:Ein Zen Abend in der Form des Soto Zen\, mit Zazen\, Kin Hin und Rezitation. \nGeleitet von Patrick Ho Kai Damschen. \nUm Anmeldung wird gebeten.
URL:https://zen-bonn.de/termin/zazen-im-san-bo-dojo/2022-06-07/
LOCATION:San Bo Dojo\, Heerstraße 167\, Bonn\, Nordrhein-Westfalen\, 53111\, Deutschland
CATEGORIES:Zen Tag | Zazenkai | Sesshin
ATTACH;FMTTYPE=image/jpeg:https://zen-bonn.de/wp-content/uploads/2020/11/Han-San-Bo-Dojo_klein.jpg
ORGANIZER;CN="Zen Dojo Bonn e.V.":MAILTO:info@zen-bonn.de
END:VEVENT
BEGIN:VEVENT
DTSTART;TZID=Europe/Berlin:20220602T190000
DTEND;TZID=Europe/Berlin:20220602T203000
DTSTAMP:20260425T044542
CREATED:20220519T140656Z
LAST-MODIFIED:20220519T141944Z
UID:10001121-1654196400-1654201800@zen-bonn.de
SUMMARY:Zazen im San Bo Dojo (+Zoom)
DESCRIPTION:Ein Zen Abend in der Form des Soto Zen\, mit Zazen\, Kin Hin und Rezitation. \nGeleitet von Patrick Ho Kai Damschen. \nUm Anmeldung wird gebeten. \nDer Zen Abend wird gleichzeitig via Zoom übertragen. Die Einwahldaten können per E-Mail erfragt werden. \n 
URL:https://zen-bonn.de/termin/zazen-im-san-bo-dojo-donnerstag/2022-06-02/
LOCATION:San Bo Dojo\, Heerstraße 167\, Bonn\, Nordrhein-Westfalen\, 53111\, Deutschland
CATEGORIES:Zen Tag | Zazenkai | Sesshin
ATTACH;FMTTYPE=image/jpeg:https://zen-bonn.de/wp-content/uploads/2020/11/Han-San-Bo-Dojo_klein.jpg
ORGANIZER;CN="Zen Dojo Bonn e.V.":MAILTO:info@zen-bonn.de
END:VEVENT
BEGIN:VEVENT
DTSTART;TZID=Europe/Berlin:20220531T190000
DTEND;TZID=Europe/Berlin:20220531T203000
DTSTAMP:20260425T044542
CREATED:20220331T115412Z
LAST-MODIFIED:20220331T123942Z
UID:10001056-1654023600-1654029000@zen-bonn.de
SUMMARY:Zazen im San Bo Dojo
DESCRIPTION:Ein Zen Abend in der Form des Soto Zen\, mit Zazen\, Kin Hin und Rezitation. \nGeleitet von Patrick Ho Kai Damschen. \nUm Anmeldung wird gebeten.
URL:https://zen-bonn.de/termin/zazen-im-san-bo-dojo/2022-05-31/
LOCATION:San Bo Dojo\, Heerstraße 167\, Bonn\, Nordrhein-Westfalen\, 53111\, Deutschland
CATEGORIES:Zen Tag | Zazenkai | Sesshin
ATTACH;FMTTYPE=image/jpeg:https://zen-bonn.de/wp-content/uploads/2020/11/Han-San-Bo-Dojo_klein.jpg
ORGANIZER;CN="Zen Dojo Bonn e.V.":MAILTO:info@zen-bonn.de
END:VEVENT
BEGIN:VEVENT
DTSTART;TZID=Europe/Berlin:20220526T190000
DTEND;TZID=Europe/Berlin:20220526T203000
DTSTAMP:20260425T044542
CREATED:20220519T140656Z
LAST-MODIFIED:20220519T141944Z
UID:10001120-1653591600-1653597000@zen-bonn.de
SUMMARY:Zazen im San Bo Dojo (+Zoom)
DESCRIPTION:Ein Zen Abend in der Form des Soto Zen\, mit Zazen\, Kin Hin und Rezitation. \nGeleitet von Patrick Ho Kai Damschen. \nUm Anmeldung wird gebeten. \nDer Zen Abend wird gleichzeitig via Zoom übertragen. Die Einwahldaten können per E-Mail erfragt werden. \n 
URL:https://zen-bonn.de/termin/zazen-im-san-bo-dojo-donnerstag/2022-05-26/
LOCATION:San Bo Dojo\, Heerstraße 167\, Bonn\, Nordrhein-Westfalen\, 53111\, Deutschland
CATEGORIES:Zen Tag | Zazenkai | Sesshin
ATTACH;FMTTYPE=image/jpeg:https://zen-bonn.de/wp-content/uploads/2020/11/Han-San-Bo-Dojo_klein.jpg
ORGANIZER;CN="Zen Dojo Bonn e.V.":MAILTO:info@zen-bonn.de
END:VEVENT
BEGIN:VEVENT
DTSTART;TZID=Europe/Berlin:20220524T190000
DTEND;TZID=Europe/Berlin:20220524T203000
DTSTAMP:20260425T044542
CREATED:20220331T115412Z
LAST-MODIFIED:20220331T123942Z
UID:10001055-1653418800-1653424200@zen-bonn.de
SUMMARY:Zazen im San Bo Dojo
DESCRIPTION:Ein Zen Abend in der Form des Soto Zen\, mit Zazen\, Kin Hin und Rezitation. \nGeleitet von Patrick Ho Kai Damschen. \nUm Anmeldung wird gebeten.
URL:https://zen-bonn.de/termin/zazen-im-san-bo-dojo/2022-05-24/
LOCATION:San Bo Dojo\, Heerstraße 167\, Bonn\, Nordrhein-Westfalen\, 53111\, Deutschland
CATEGORIES:Zen Tag | Zazenkai | Sesshin
ATTACH;FMTTYPE=image/jpeg:https://zen-bonn.de/wp-content/uploads/2020/11/Han-San-Bo-Dojo_klein.jpg
ORGANIZER;CN="Zen Dojo Bonn e.V.":MAILTO:info@zen-bonn.de
END:VEVENT
BEGIN:VEVENT
DTSTART;TZID=Europe/Berlin:20220519T190000
DTEND;TZID=Europe/Berlin:20220519T203000
DTSTAMP:20260425T044542
CREATED:20220519T140656Z
LAST-MODIFIED:20220519T141944Z
UID:10001119-1652986800-1652992200@zen-bonn.de
SUMMARY:Zazen im San Bo Dojo (+Zoom)
DESCRIPTION:Ein Zen Abend in der Form des Soto Zen\, mit Zazen\, Kin Hin und Rezitation. \nGeleitet von Patrick Ho Kai Damschen. \nUm Anmeldung wird gebeten. \nDer Zen Abend wird gleichzeitig via Zoom übertragen. Die Einwahldaten können per E-Mail erfragt werden. \n 
URL:https://zen-bonn.de/termin/zazen-im-san-bo-dojo-donnerstag/2022-05-19/
LOCATION:San Bo Dojo\, Heerstraße 167\, Bonn\, Nordrhein-Westfalen\, 53111\, Deutschland
CATEGORIES:Zen Tag | Zazenkai | Sesshin
ATTACH;FMTTYPE=image/jpeg:https://zen-bonn.de/wp-content/uploads/2020/11/Han-San-Bo-Dojo_klein.jpg
ORGANIZER;CN="Zen Dojo Bonn e.V.":MAILTO:info@zen-bonn.de
END:VEVENT
BEGIN:VEVENT
DTSTART;TZID=Europe/Berlin:20220517T190000
DTEND;TZID=Europe/Berlin:20220517T203000
DTSTAMP:20260425T044542
CREATED:20220331T115412Z
LAST-MODIFIED:20220331T123942Z
UID:10001054-1652814000-1652819400@zen-bonn.de
SUMMARY:Zazen im San Bo Dojo
DESCRIPTION:Ein Zen Abend in der Form des Soto Zen\, mit Zazen\, Kin Hin und Rezitation. \nGeleitet von Patrick Ho Kai Damschen. \nUm Anmeldung wird gebeten.
URL:https://zen-bonn.de/termin/zazen-im-san-bo-dojo/2022-05-17/
LOCATION:San Bo Dojo\, Heerstraße 167\, Bonn\, Nordrhein-Westfalen\, 53111\, Deutschland
CATEGORIES:Zen Tag | Zazenkai | Sesshin
ATTACH;FMTTYPE=image/jpeg:https://zen-bonn.de/wp-content/uploads/2020/11/Han-San-Bo-Dojo_klein.jpg
ORGANIZER;CN="Zen Dojo Bonn e.V.":MAILTO:info@zen-bonn.de
END:VEVENT
BEGIN:VEVENT
DTSTART;TZID=Europe/Berlin:20220512T190000
DTEND;TZID=Europe/Berlin:20220512T203000
DTSTAMP:20260425T044542
CREATED:20220519T140656Z
LAST-MODIFIED:20220519T141944Z
UID:10001118-1652382000-1652387400@zen-bonn.de
SUMMARY:Zazen im San Bo Dojo (+Zoom)
DESCRIPTION:Ein Zen Abend in der Form des Soto Zen\, mit Zazen\, Kin Hin und Rezitation. \nGeleitet von Patrick Ho Kai Damschen. \nUm Anmeldung wird gebeten. \nDer Zen Abend wird gleichzeitig via Zoom übertragen. Die Einwahldaten können per E-Mail erfragt werden. \n 
URL:https://zen-bonn.de/termin/zazen-im-san-bo-dojo-donnerstag/2022-05-12/
LOCATION:San Bo Dojo\, Heerstraße 167\, Bonn\, Nordrhein-Westfalen\, 53111\, Deutschland
CATEGORIES:Zen Tag | Zazenkai | Sesshin
ATTACH;FMTTYPE=image/jpeg:https://zen-bonn.de/wp-content/uploads/2020/11/Han-San-Bo-Dojo_klein.jpg
ORGANIZER;CN="Zen Dojo Bonn e.V.":MAILTO:info@zen-bonn.de
END:VEVENT
BEGIN:VEVENT
DTSTART;TZID=Europe/Berlin:20220510T190000
DTEND;TZID=Europe/Berlin:20220510T203000
DTSTAMP:20260425T044542
CREATED:20220331T115412Z
LAST-MODIFIED:20220331T123942Z
UID:10001053-1652209200-1652214600@zen-bonn.de
SUMMARY:Zazen im San Bo Dojo
DESCRIPTION:Ein Zen Abend in der Form des Soto Zen\, mit Zazen\, Kin Hin und Rezitation. \nGeleitet von Patrick Ho Kai Damschen. \nUm Anmeldung wird gebeten.
URL:https://zen-bonn.de/termin/zazen-im-san-bo-dojo/2022-05-10/
LOCATION:San Bo Dojo\, Heerstraße 167\, Bonn\, Nordrhein-Westfalen\, 53111\, Deutschland
CATEGORIES:Zen Tag | Zazenkai | Sesshin
ATTACH;FMTTYPE=image/jpeg:https://zen-bonn.de/wp-content/uploads/2020/11/Han-San-Bo-Dojo_klein.jpg
ORGANIZER;CN="Zen Dojo Bonn e.V.":MAILTO:info@zen-bonn.de
END:VEVENT
BEGIN:VEVENT
DTSTART;TZID=Europe/Berlin:20220505T190000
DTEND;TZID=Europe/Berlin:20220505T203000
DTSTAMP:20260425T044542
CREATED:20220519T140656Z
LAST-MODIFIED:20220519T141944Z
UID:10001117-1651777200-1651782600@zen-bonn.de
SUMMARY:Zazen im San Bo Dojo (+Zoom)
DESCRIPTION:Ein Zen Abend in der Form des Soto Zen\, mit Zazen\, Kin Hin und Rezitation. \nGeleitet von Patrick Ho Kai Damschen. \nUm Anmeldung wird gebeten. \nDer Zen Abend wird gleichzeitig via Zoom übertragen. Die Einwahldaten können per E-Mail erfragt werden. \n 
URL:https://zen-bonn.de/termin/zazen-im-san-bo-dojo-donnerstag/2022-05-05/
LOCATION:San Bo Dojo\, Heerstraße 167\, Bonn\, Nordrhein-Westfalen\, 53111\, Deutschland
CATEGORIES:Zen Tag | Zazenkai | Sesshin
ATTACH;FMTTYPE=image/jpeg:https://zen-bonn.de/wp-content/uploads/2020/11/Han-San-Bo-Dojo_klein.jpg
ORGANIZER;CN="Zen Dojo Bonn e.V.":MAILTO:info@zen-bonn.de
END:VEVENT
BEGIN:VEVENT
DTSTART;TZID=Europe/Berlin:20220503T190000
DTEND;TZID=Europe/Berlin:20220503T203000
DTSTAMP:20260425T044542
CREATED:20220331T115412Z
LAST-MODIFIED:20220331T123942Z
UID:10001052-1651604400-1651609800@zen-bonn.de
SUMMARY:Zazen im San Bo Dojo
DESCRIPTION:Ein Zen Abend in der Form des Soto Zen\, mit Zazen\, Kin Hin und Rezitation. \nGeleitet von Patrick Ho Kai Damschen. \nUm Anmeldung wird gebeten.
URL:https://zen-bonn.de/termin/zazen-im-san-bo-dojo/2022-05-03/
LOCATION:San Bo Dojo\, Heerstraße 167\, Bonn\, Nordrhein-Westfalen\, 53111\, Deutschland
CATEGORIES:Zen Tag | Zazenkai | Sesshin
ATTACH;FMTTYPE=image/jpeg:https://zen-bonn.de/wp-content/uploads/2020/11/Han-San-Bo-Dojo_klein.jpg
ORGANIZER;CN="Zen Dojo Bonn e.V.":MAILTO:info@zen-bonn.de
END:VEVENT
BEGIN:VEVENT
DTSTART;TZID=Europe/Berlin:20220426T190000
DTEND;TZID=Europe/Berlin:20220426T203000
DTSTAMP:20260425T044542
CREATED:20220331T115412Z
LAST-MODIFIED:20220331T123942Z
UID:10001051-1650999600-1651005000@zen-bonn.de
SUMMARY:Zazen im San Bo Dojo
DESCRIPTION:Ein Zen Abend in der Form des Soto Zen\, mit Zazen\, Kin Hin und Rezitation. \nGeleitet von Patrick Ho Kai Damschen. \nUm Anmeldung wird gebeten.
URL:https://zen-bonn.de/termin/zazen-im-san-bo-dojo/2022-04-26/
LOCATION:San Bo Dojo\, Heerstraße 167\, Bonn\, Nordrhein-Westfalen\, 53111\, Deutschland
CATEGORIES:Zen Tag | Zazenkai | Sesshin
ATTACH;FMTTYPE=image/jpeg:https://zen-bonn.de/wp-content/uploads/2020/11/Han-San-Bo-Dojo_klein.jpg
ORGANIZER;CN="Zen Dojo Bonn e.V.":MAILTO:info@zen-bonn.de
END:VEVENT
BEGIN:VEVENT
DTSTART;TZID=Europe/Berlin:20220419T190000
DTEND;TZID=Europe/Berlin:20220419T203000
DTSTAMP:20260425T044542
CREATED:20220331T115412Z
LAST-MODIFIED:20220331T123942Z
UID:10001050-1650394800-1650400200@zen-bonn.de
SUMMARY:Zazen im San Bo Dojo
DESCRIPTION:Ein Zen Abend in der Form des Soto Zen\, mit Zazen\, Kin Hin und Rezitation. \nGeleitet von Patrick Ho Kai Damschen. \nUm Anmeldung wird gebeten.
URL:https://zen-bonn.de/termin/zazen-im-san-bo-dojo/2022-04-19/
LOCATION:San Bo Dojo\, Heerstraße 167\, Bonn\, Nordrhein-Westfalen\, 53111\, Deutschland
CATEGORIES:Zen Tag | Zazenkai | Sesshin
ATTACH;FMTTYPE=image/jpeg:https://zen-bonn.de/wp-content/uploads/2020/11/Han-San-Bo-Dojo_klein.jpg
ORGANIZER;CN="Zen Dojo Bonn e.V.":MAILTO:info@zen-bonn.de
END:VEVENT
END:VCALENDAR