BEGIN:VCALENDAR
VERSION:2.0
PRODID:-//San Bo Dojo und Kô Getsu An - ECPv6.15.20//NONSGML v1.0//EN
CALSCALE:GREGORIAN
METHOD:PUBLISH
X-ORIGINAL-URL:https://zen-bonn.de
X-WR-CALDESC:Veranstaltungen für San Bo Dojo und Kô Getsu An
REFRESH-INTERVAL;VALUE=DURATION:PT1H
X-Robots-Tag:noindex
X-PUBLISHED-TTL:PT1H
BEGIN:VTIMEZONE
TZID:Europe/Berlin
BEGIN:DAYLIGHT
TZOFFSETFROM:+0100
TZOFFSETTO:+0200
TZNAME:CEST
DTSTART:20210328T010000
END:DAYLIGHT
BEGIN:STANDARD
TZOFFSETFROM:+0200
TZOFFSETTO:+0100
TZNAME:CET
DTSTART:20211031T010000
END:STANDARD
BEGIN:DAYLIGHT
TZOFFSETFROM:+0100
TZOFFSETTO:+0200
TZNAME:CEST
DTSTART:20220327T010000
END:DAYLIGHT
BEGIN:STANDARD
TZOFFSETFROM:+0200
TZOFFSETTO:+0100
TZNAME:CET
DTSTART:20221030T010000
END:STANDARD
BEGIN:DAYLIGHT
TZOFFSETFROM:+0100
TZOFFSETTO:+0200
TZNAME:CEST
DTSTART:20230326T010000
END:DAYLIGHT
BEGIN:STANDARD
TZOFFSETFROM:+0200
TZOFFSETTO:+0100
TZNAME:CET
DTSTART:20231029T010000
END:STANDARD
END:VTIMEZONE
BEGIN:VEVENT
DTSTART;TZID=Europe/Berlin:20221027T190000
DTEND;TZID=Europe/Berlin:20221027T203000
DTSTAMP:20260424T180955
CREATED:20220519T140656Z
LAST-MODIFIED:20220519T141944Z
UID:10001142-1666897200-1666902600@zen-bonn.de
SUMMARY:Zazen im San Bo Dojo (+Zoom)
DESCRIPTION:Ein Zen Abend in der Form des Soto Zen\, mit Zazen\, Kin Hin und Rezitation. \nGeleitet von Patrick Ho Kai Damschen. \nUm Anmeldung wird gebeten. \nDer Zen Abend wird gleichzeitig via Zoom übertragen. Die Einwahldaten können per E-Mail erfragt werden. \n 
URL:https://zen-bonn.de/termin/zazen-im-san-bo-dojo-donnerstag/2022-10-27/
LOCATION:San Bo Dojo\, Heerstraße 167\, Bonn\, Nordrhein-Westfalen\, 53111\, Deutschland
CATEGORIES:Zen Tag | Zazenkai | Sesshin
ATTACH;FMTTYPE=image/jpeg:https://zen-bonn.de/wp-content/uploads/2020/11/Han-San-Bo-Dojo_klein.jpg
ORGANIZER;CN="Zen Dojo Bonn e.V.":MAILTO:info@zen-bonn.de
END:VEVENT
BEGIN:VEVENT
DTSTART;TZID=Europe/Berlin:20221025T190000
DTEND;TZID=Europe/Berlin:20221025T203000
DTSTAMP:20260424T180955
CREATED:20220331T115412Z
LAST-MODIFIED:20220331T123942Z
UID:10001075-1666724400-1666729800@zen-bonn.de
SUMMARY:Zazen im San Bo Dojo
DESCRIPTION:Ein Zen Abend in der Form des Soto Zen\, mit Zazen\, Kin Hin und Rezitation. \nGeleitet von Patrick Ho Kai Damschen. \nUm Anmeldung wird gebeten.
URL:https://zen-bonn.de/termin/zazen-im-san-bo-dojo/2022-10-25/
LOCATION:San Bo Dojo\, Heerstraße 167\, Bonn\, Nordrhein-Westfalen\, 53111\, Deutschland
CATEGORIES:Zen Tag | Zazenkai | Sesshin
ATTACH;FMTTYPE=image/jpeg:https://zen-bonn.de/wp-content/uploads/2020/11/Han-San-Bo-Dojo_klein.jpg
ORGANIZER;CN="Zen Dojo Bonn e.V.":MAILTO:info@zen-bonn.de
END:VEVENT
BEGIN:VEVENT
DTSTART;TZID=Europe/Berlin:20221020T190000
DTEND;TZID=Europe/Berlin:20221020T203000
DTSTAMP:20260424T180955
CREATED:20220519T140656Z
LAST-MODIFIED:20220519T141944Z
UID:10001141-1666292400-1666297800@zen-bonn.de
SUMMARY:Zazen im San Bo Dojo (+Zoom)
DESCRIPTION:Ein Zen Abend in der Form des Soto Zen\, mit Zazen\, Kin Hin und Rezitation. \nGeleitet von Patrick Ho Kai Damschen. \nUm Anmeldung wird gebeten. \nDer Zen Abend wird gleichzeitig via Zoom übertragen. Die Einwahldaten können per E-Mail erfragt werden. \n 
URL:https://zen-bonn.de/termin/zazen-im-san-bo-dojo-donnerstag/2022-10-20/
LOCATION:San Bo Dojo\, Heerstraße 167\, Bonn\, Nordrhein-Westfalen\, 53111\, Deutschland
CATEGORIES:Zen Tag | Zazenkai | Sesshin
ATTACH;FMTTYPE=image/jpeg:https://zen-bonn.de/wp-content/uploads/2020/11/Han-San-Bo-Dojo_klein.jpg
ORGANIZER;CN="Zen Dojo Bonn e.V.":MAILTO:info@zen-bonn.de
END:VEVENT
BEGIN:VEVENT
DTSTART;TZID=Europe/Berlin:20221018T190000
DTEND;TZID=Europe/Berlin:20221018T210000
DTSTAMP:20260424T180955
CREATED:20220831T141111Z
LAST-MODIFIED:20221017T111338Z
UID:10001163-1666119600-1666126800@zen-bonn.de
SUMMARY:Zen und Sensory Awareness Workshop
DESCRIPTION:„Kommen und Gehen sind der wahre Körper“ (Dogen) \nDas was wir Körper nennen\, unsere Leiblichkeit\, ist eine bedingte\, veränderliche Form\, die wir allzu oft als gegeben und selbstverständlich annehmen. Erst wenn Schmerzen oder Gebrechen auftauchen\, wenden wir uns dem Geschehen zu. \nZen und Sensory Awareness bieten eine Möglichkeit\, den ständigen Dialog zu erforschen\, der wir sind\, gemeinsam mit dem Boden\, dem Raum\, der Luft. \nStefan Laeng und Patrick Ho Kai bieten an diesem Abend eine Gelegenheit\, die bereichernde Verbindung von Zen und Sensory Awareness kennenzulernen. Der Workshop enthält Phasen klassischer Zen Praxis sowie Anteile von Sensory Awareness. \nDer Workshop findet auf Spendenbasis statt. \nStefan Laeng ist Sensory Awareness Lehrer. Er lebt in Peterborough\, New Hampshire\, USA und arbeitet regelmässig auch in Europa. Er ist Executive Director der Sensory Awareness Foundation. Gegenwärtig arbeitet er an einer ausführlichen Biographie über Charlotte Selver. Seit den frühen 1980er Jahren sind Sensory Awareness und Buddhismus richtungsweisend in seinem Leben und seiner Arbeit.
URL:https://zen-bonn.de/termin/zen-und-sensory-awareness-im-san-bo-dojo/
LOCATION:San Bo Dojo\, Heerstraße 167\, Bonn\, Nordrhein-Westfalen\, 53111\, Deutschland
CATEGORIES:featured,Workshop | Seminar
ATTACH;FMTTYPE=image/jpeg:https://zen-bonn.de/wp-content/uploads/2020/09/Facebook-Zen-Sensory-10-2021.jpg
ORGANIZER;CN="Zen Dojo Bonn e.V.":MAILTO:info@zen-bonn.de
END:VEVENT
BEGIN:VEVENT
DTSTART;TZID=Europe/Berlin:20221013T190000
DTEND;TZID=Europe/Berlin:20221013T203000
DTSTAMP:20260424T180955
CREATED:20220519T140656Z
LAST-MODIFIED:20220519T141944Z
UID:10001140-1665687600-1665693000@zen-bonn.de
SUMMARY:Zazen im San Bo Dojo (+Zoom)
DESCRIPTION:Ein Zen Abend in der Form des Soto Zen\, mit Zazen\, Kin Hin und Rezitation. \nGeleitet von Patrick Ho Kai Damschen. \nUm Anmeldung wird gebeten. \nDer Zen Abend wird gleichzeitig via Zoom übertragen. Die Einwahldaten können per E-Mail erfragt werden. \n 
URL:https://zen-bonn.de/termin/zazen-im-san-bo-dojo-donnerstag/2022-10-13/
LOCATION:San Bo Dojo\, Heerstraße 167\, Bonn\, Nordrhein-Westfalen\, 53111\, Deutschland
CATEGORIES:Zen Tag | Zazenkai | Sesshin
ATTACH;FMTTYPE=image/jpeg:https://zen-bonn.de/wp-content/uploads/2020/11/Han-San-Bo-Dojo_klein.jpg
ORGANIZER;CN="Zen Dojo Bonn e.V.":MAILTO:info@zen-bonn.de
END:VEVENT
BEGIN:VEVENT
DTSTART;TZID=Europe/Berlin:20221011T190000
DTEND;TZID=Europe/Berlin:20221011T203000
DTSTAMP:20260424T180955
CREATED:20220331T115412Z
LAST-MODIFIED:20220331T123942Z
UID:10001074-1665514800-1665520200@zen-bonn.de
SUMMARY:Zazen im San Bo Dojo
DESCRIPTION:Ein Zen Abend in der Form des Soto Zen\, mit Zazen\, Kin Hin und Rezitation. \nGeleitet von Patrick Ho Kai Damschen. \nUm Anmeldung wird gebeten.
URL:https://zen-bonn.de/termin/zazen-im-san-bo-dojo/2022-10-11/
LOCATION:San Bo Dojo\, Heerstraße 167\, Bonn\, Nordrhein-Westfalen\, 53111\, Deutschland
CATEGORIES:Zen Tag | Zazenkai | Sesshin
ATTACH;FMTTYPE=image/jpeg:https://zen-bonn.de/wp-content/uploads/2020/11/Han-San-Bo-Dojo_klein.jpg
ORGANIZER;CN="Zen Dojo Bonn e.V.":MAILTO:info@zen-bonn.de
END:VEVENT
BEGIN:VEVENT
DTSTART;TZID=Europe/Berlin:20221006T190000
DTEND;TZID=Europe/Berlin:20221006T203000
DTSTAMP:20260424T180955
CREATED:20220519T140656Z
LAST-MODIFIED:20220519T141944Z
UID:10001139-1665082800-1665088200@zen-bonn.de
SUMMARY:Zazen im San Bo Dojo (+Zoom)
DESCRIPTION:Ein Zen Abend in der Form des Soto Zen\, mit Zazen\, Kin Hin und Rezitation. \nGeleitet von Patrick Ho Kai Damschen. \nUm Anmeldung wird gebeten. \nDer Zen Abend wird gleichzeitig via Zoom übertragen. Die Einwahldaten können per E-Mail erfragt werden. \n 
URL:https://zen-bonn.de/termin/zazen-im-san-bo-dojo-donnerstag/2022-10-06/
LOCATION:San Bo Dojo\, Heerstraße 167\, Bonn\, Nordrhein-Westfalen\, 53111\, Deutschland
CATEGORIES:Zen Tag | Zazenkai | Sesshin
ATTACH;FMTTYPE=image/jpeg:https://zen-bonn.de/wp-content/uploads/2020/11/Han-San-Bo-Dojo_klein.jpg
ORGANIZER;CN="Zen Dojo Bonn e.V.":MAILTO:info@zen-bonn.de
END:VEVENT
BEGIN:VEVENT
DTSTART;TZID=Europe/Berlin:20221004T190000
DTEND;TZID=Europe/Berlin:20221004T203000
DTSTAMP:20260424T180955
CREATED:20220331T115412Z
LAST-MODIFIED:20220331T123942Z
UID:10001073-1664910000-1664915400@zen-bonn.de
SUMMARY:Zazen im San Bo Dojo
DESCRIPTION:Ein Zen Abend in der Form des Soto Zen\, mit Zazen\, Kin Hin und Rezitation. \nGeleitet von Patrick Ho Kai Damschen. \nUm Anmeldung wird gebeten.
URL:https://zen-bonn.de/termin/zazen-im-san-bo-dojo/2022-10-04/
LOCATION:San Bo Dojo\, Heerstraße 167\, Bonn\, Nordrhein-Westfalen\, 53111\, Deutschland
CATEGORIES:Zen Tag | Zazenkai | Sesshin
ATTACH;FMTTYPE=image/jpeg:https://zen-bonn.de/wp-content/uploads/2020/11/Han-San-Bo-Dojo_klein.jpg
ORGANIZER;CN="Zen Dojo Bonn e.V.":MAILTO:info@zen-bonn.de
END:VEVENT
BEGIN:VEVENT
DTSTART;TZID=Europe/Berlin:20220929T190000
DTEND;TZID=Europe/Berlin:20220929T203000
DTSTAMP:20260424T180955
CREATED:20220519T140656Z
LAST-MODIFIED:20220519T141944Z
UID:10001138-1664478000-1664483400@zen-bonn.de
SUMMARY:Zazen im San Bo Dojo (+Zoom)
DESCRIPTION:Ein Zen Abend in der Form des Soto Zen\, mit Zazen\, Kin Hin und Rezitation. \nGeleitet von Patrick Ho Kai Damschen. \nUm Anmeldung wird gebeten. \nDer Zen Abend wird gleichzeitig via Zoom übertragen. Die Einwahldaten können per E-Mail erfragt werden. \n 
URL:https://zen-bonn.de/termin/zazen-im-san-bo-dojo-donnerstag/2022-09-29/
LOCATION:San Bo Dojo\, Heerstraße 167\, Bonn\, Nordrhein-Westfalen\, 53111\, Deutschland
CATEGORIES:Zen Tag | Zazenkai | Sesshin
ATTACH;FMTTYPE=image/jpeg:https://zen-bonn.de/wp-content/uploads/2020/11/Han-San-Bo-Dojo_klein.jpg
ORGANIZER;CN="Zen Dojo Bonn e.V.":MAILTO:info@zen-bonn.de
END:VEVENT
BEGIN:VEVENT
DTSTART;TZID=Europe/Berlin:20220927T190000
DTEND;TZID=Europe/Berlin:20220927T203000
DTSTAMP:20260424T180955
CREATED:20220331T115412Z
LAST-MODIFIED:20220331T123942Z
UID:10001072-1664305200-1664310600@zen-bonn.de
SUMMARY:Zazen im San Bo Dojo
DESCRIPTION:Ein Zen Abend in der Form des Soto Zen\, mit Zazen\, Kin Hin und Rezitation. \nGeleitet von Patrick Ho Kai Damschen. \nUm Anmeldung wird gebeten.
URL:https://zen-bonn.de/termin/zazen-im-san-bo-dojo/2022-09-27/
LOCATION:San Bo Dojo\, Heerstraße 167\, Bonn\, Nordrhein-Westfalen\, 53111\, Deutschland
CATEGORIES:Zen Tag | Zazenkai | Sesshin
ATTACH;FMTTYPE=image/jpeg:https://zen-bonn.de/wp-content/uploads/2020/11/Han-San-Bo-Dojo_klein.jpg
ORGANIZER;CN="Zen Dojo Bonn e.V.":MAILTO:info@zen-bonn.de
END:VEVENT
BEGIN:VEVENT
DTSTART;TZID=Europe/Berlin:20220922T190000
DTEND;TZID=Europe/Berlin:20220922T203000
DTSTAMP:20260424T180955
CREATED:20220519T140656Z
LAST-MODIFIED:20220519T141944Z
UID:10001137-1663873200-1663878600@zen-bonn.de
SUMMARY:Zazen im San Bo Dojo (+Zoom)
DESCRIPTION:Ein Zen Abend in der Form des Soto Zen\, mit Zazen\, Kin Hin und Rezitation. \nGeleitet von Patrick Ho Kai Damschen. \nUm Anmeldung wird gebeten. \nDer Zen Abend wird gleichzeitig via Zoom übertragen. Die Einwahldaten können per E-Mail erfragt werden. \n 
URL:https://zen-bonn.de/termin/zazen-im-san-bo-dojo-donnerstag/2022-09-22/
LOCATION:San Bo Dojo\, Heerstraße 167\, Bonn\, Nordrhein-Westfalen\, 53111\, Deutschland
CATEGORIES:Zen Tag | Zazenkai | Sesshin
ATTACH;FMTTYPE=image/jpeg:https://zen-bonn.de/wp-content/uploads/2020/11/Han-San-Bo-Dojo_klein.jpg
ORGANIZER;CN="Zen Dojo Bonn e.V.":MAILTO:info@zen-bonn.de
END:VEVENT
BEGIN:VEVENT
DTSTART;TZID=Europe/Berlin:20220920T190000
DTEND;TZID=Europe/Berlin:20220920T203000
DTSTAMP:20260424T180955
CREATED:20220331T115412Z
LAST-MODIFIED:20220331T123942Z
UID:10001071-1663700400-1663705800@zen-bonn.de
SUMMARY:Zazen im San Bo Dojo
DESCRIPTION:Ein Zen Abend in der Form des Soto Zen\, mit Zazen\, Kin Hin und Rezitation. \nGeleitet von Patrick Ho Kai Damschen. \nUm Anmeldung wird gebeten.
URL:https://zen-bonn.de/termin/zazen-im-san-bo-dojo/2022-09-20/
LOCATION:San Bo Dojo\, Heerstraße 167\, Bonn\, Nordrhein-Westfalen\, 53111\, Deutschland
CATEGORIES:Zen Tag | Zazenkai | Sesshin
ATTACH;FMTTYPE=image/jpeg:https://zen-bonn.de/wp-content/uploads/2020/11/Han-San-Bo-Dojo_klein.jpg
ORGANIZER;CN="Zen Dojo Bonn e.V.":MAILTO:info@zen-bonn.de
END:VEVENT
BEGIN:VEVENT
DTSTART;TZID=Europe/Berlin:20220915T190000
DTEND;TZID=Europe/Berlin:20220915T203000
DTSTAMP:20260424T180955
CREATED:20220519T140656Z
LAST-MODIFIED:20220519T141944Z
UID:10001136-1663268400-1663273800@zen-bonn.de
SUMMARY:Zazen im San Bo Dojo (+Zoom)
DESCRIPTION:Ein Zen Abend in der Form des Soto Zen\, mit Zazen\, Kin Hin und Rezitation. \nGeleitet von Patrick Ho Kai Damschen. \nUm Anmeldung wird gebeten. \nDer Zen Abend wird gleichzeitig via Zoom übertragen. Die Einwahldaten können per E-Mail erfragt werden. \n 
URL:https://zen-bonn.de/termin/zazen-im-san-bo-dojo-donnerstag/2022-09-15/
LOCATION:San Bo Dojo\, Heerstraße 167\, Bonn\, Nordrhein-Westfalen\, 53111\, Deutschland
CATEGORIES:Zen Tag | Zazenkai | Sesshin
ATTACH;FMTTYPE=image/jpeg:https://zen-bonn.de/wp-content/uploads/2020/11/Han-San-Bo-Dojo_klein.jpg
ORGANIZER;CN="Zen Dojo Bonn e.V.":MAILTO:info@zen-bonn.de
END:VEVENT
BEGIN:VEVENT
DTSTART;TZID=Europe/Berlin:20220913T190000
DTEND;TZID=Europe/Berlin:20220913T210000
DTSTAMP:20260424T180955
CREATED:20220726T104836Z
LAST-MODIFIED:20220802T155418Z
UID:10000893-1663095600-1663102800@zen-bonn.de
SUMMARY:Zazen & Talk mit Brad Warner im San Bo Dojo
DESCRIPTION:Am 13.09.2022 ist der u.s.-amerikanische Zen-Lehrer\, Punk-Bassist und Autor zu Gast im Bonner San Bo Dojo. \nMit Büchern wie “Hardcore Zen”\, “Sit down\, Shut up”\, “Sex\, Sin and Zen” und „There is no god…“\, „Letters to a dead friend“ und seinen erfrischenden Dogen Übersetzungen\, wurde er für seine unkonventionelle Zen-Unterweisung bekannt. \nWir werden Zazen praktizieren und Brad wird einen Talk geben. Der Talk wird in Englisch gehalten; es wird keine Übersetzung geben. \nEine Teilnahme ist nur mit einem gültigen\, negativem Corona-Test möglich. \nDie Plätze sind begrenzt. \nDie Veranstaltung findet auf Spendenbasis statt. \nAnmeldungen bitte an info@zen-bonn.de \nInfos zu Brad Warner und Tourdaten unter http://hardcorezen.info
URL:https://zen-bonn.de/termin/zazen-talk-mit-brad-warner-im-san-bo-dojo-2022/
LOCATION:San Bo Dojo\, Heerstraße 167\, Bonn\, Nordrhein-Westfalen\, 53111\, Deutschland
CATEGORIES:Vortrag | Lesung
ATTACH;FMTTYPE=image/jpeg:https://zen-bonn.de/wp-content/uploads/2022/07/Brad-Warner-07-2022-BN.jpg
ORGANIZER;CN="Zen Dojo Bonn e.V.":MAILTO:info@zen-bonn.de
END:VEVENT
BEGIN:VEVENT
DTSTART;TZID=Europe/Berlin:20220908T190000
DTEND;TZID=Europe/Berlin:20220908T203000
DTSTAMP:20260424T180955
CREATED:20220519T140656Z
LAST-MODIFIED:20220519T141944Z
UID:10001135-1662663600-1662669000@zen-bonn.de
SUMMARY:Zazen im San Bo Dojo (+Zoom)
DESCRIPTION:Ein Zen Abend in der Form des Soto Zen\, mit Zazen\, Kin Hin und Rezitation. \nGeleitet von Patrick Ho Kai Damschen. \nUm Anmeldung wird gebeten. \nDer Zen Abend wird gleichzeitig via Zoom übertragen. Die Einwahldaten können per E-Mail erfragt werden. \n 
URL:https://zen-bonn.de/termin/zazen-im-san-bo-dojo-donnerstag/2022-09-08/
LOCATION:San Bo Dojo\, Heerstraße 167\, Bonn\, Nordrhein-Westfalen\, 53111\, Deutschland
CATEGORIES:Zen Tag | Zazenkai | Sesshin
ATTACH;FMTTYPE=image/jpeg:https://zen-bonn.de/wp-content/uploads/2020/11/Han-San-Bo-Dojo_klein.jpg
ORGANIZER;CN="Zen Dojo Bonn e.V.":MAILTO:info@zen-bonn.de
END:VEVENT
BEGIN:VEVENT
DTSTART;TZID=Europe/Berlin:20220906T190000
DTEND;TZID=Europe/Berlin:20220906T203000
DTSTAMP:20260424T180955
CREATED:20220331T115412Z
LAST-MODIFIED:20220331T123942Z
UID:10001070-1662490800-1662496200@zen-bonn.de
SUMMARY:Zazen im San Bo Dojo
DESCRIPTION:Ein Zen Abend in der Form des Soto Zen\, mit Zazen\, Kin Hin und Rezitation. \nGeleitet von Patrick Ho Kai Damschen. \nUm Anmeldung wird gebeten.
URL:https://zen-bonn.de/termin/zazen-im-san-bo-dojo/2022-09-06/
LOCATION:San Bo Dojo\, Heerstraße 167\, Bonn\, Nordrhein-Westfalen\, 53111\, Deutschland
CATEGORIES:Zen Tag | Zazenkai | Sesshin
ATTACH;FMTTYPE=image/jpeg:https://zen-bonn.de/wp-content/uploads/2020/11/Han-San-Bo-Dojo_klein.jpg
ORGANIZER;CN="Zen Dojo Bonn e.V.":MAILTO:info@zen-bonn.de
END:VEVENT
BEGIN:VEVENT
DTSTART;TZID=Europe/Berlin:20220901T190000
DTEND;TZID=Europe/Berlin:20220901T203000
DTSTAMP:20260424T180955
CREATED:20220519T140656Z
LAST-MODIFIED:20220519T141944Z
UID:10001134-1662058800-1662064200@zen-bonn.de
SUMMARY:Zazen im San Bo Dojo (+Zoom)
DESCRIPTION:Ein Zen Abend in der Form des Soto Zen\, mit Zazen\, Kin Hin und Rezitation. \nGeleitet von Patrick Ho Kai Damschen. \nUm Anmeldung wird gebeten. \nDer Zen Abend wird gleichzeitig via Zoom übertragen. Die Einwahldaten können per E-Mail erfragt werden. \n 
URL:https://zen-bonn.de/termin/zazen-im-san-bo-dojo-donnerstag/2022-09-01/
LOCATION:San Bo Dojo\, Heerstraße 167\, Bonn\, Nordrhein-Westfalen\, 53111\, Deutschland
CATEGORIES:Zen Tag | Zazenkai | Sesshin
ATTACH;FMTTYPE=image/jpeg:https://zen-bonn.de/wp-content/uploads/2020/11/Han-San-Bo-Dojo_klein.jpg
ORGANIZER;CN="Zen Dojo Bonn e.V.":MAILTO:info@zen-bonn.de
END:VEVENT
BEGIN:VEVENT
DTSTART;TZID=Europe/Berlin:20220830T190000
DTEND;TZID=Europe/Berlin:20220830T203000
DTSTAMP:20260424T180955
CREATED:20220331T115412Z
LAST-MODIFIED:20220331T123942Z
UID:10001069-1661886000-1661891400@zen-bonn.de
SUMMARY:Zazen im San Bo Dojo
DESCRIPTION:Ein Zen Abend in der Form des Soto Zen\, mit Zazen\, Kin Hin und Rezitation. \nGeleitet von Patrick Ho Kai Damschen. \nUm Anmeldung wird gebeten.
URL:https://zen-bonn.de/termin/zazen-im-san-bo-dojo/2022-08-30/
LOCATION:San Bo Dojo\, Heerstraße 167\, Bonn\, Nordrhein-Westfalen\, 53111\, Deutschland
CATEGORIES:Zen Tag | Zazenkai | Sesshin
ATTACH;FMTTYPE=image/jpeg:https://zen-bonn.de/wp-content/uploads/2020/11/Han-San-Bo-Dojo_klein.jpg
ORGANIZER;CN="Zen Dojo Bonn e.V.":MAILTO:info@zen-bonn.de
END:VEVENT
BEGIN:VEVENT
DTSTART;TZID=Europe/Berlin:20220825T190000
DTEND;TZID=Europe/Berlin:20220825T203000
DTSTAMP:20260424T180955
CREATED:20220519T140656Z
LAST-MODIFIED:20220519T141944Z
UID:10001133-1661454000-1661459400@zen-bonn.de
SUMMARY:Zazen im San Bo Dojo (+Zoom)
DESCRIPTION:Ein Zen Abend in der Form des Soto Zen\, mit Zazen\, Kin Hin und Rezitation. \nGeleitet von Patrick Ho Kai Damschen. \nUm Anmeldung wird gebeten. \nDer Zen Abend wird gleichzeitig via Zoom übertragen. Die Einwahldaten können per E-Mail erfragt werden. \n 
URL:https://zen-bonn.de/termin/zazen-im-san-bo-dojo-donnerstag/2022-08-25/
LOCATION:San Bo Dojo\, Heerstraße 167\, Bonn\, Nordrhein-Westfalen\, 53111\, Deutschland
CATEGORIES:Zen Tag | Zazenkai | Sesshin
ATTACH;FMTTYPE=image/jpeg:https://zen-bonn.de/wp-content/uploads/2020/11/Han-San-Bo-Dojo_klein.jpg
ORGANIZER;CN="Zen Dojo Bonn e.V.":MAILTO:info@zen-bonn.de
END:VEVENT
BEGIN:VEVENT
DTSTART;TZID=Europe/Berlin:20220823T190000
DTEND;TZID=Europe/Berlin:20220823T203000
DTSTAMP:20260424T180955
CREATED:20220331T115412Z
LAST-MODIFIED:20220331T123942Z
UID:10001068-1661281200-1661286600@zen-bonn.de
SUMMARY:Zazen im San Bo Dojo
DESCRIPTION:Ein Zen Abend in der Form des Soto Zen\, mit Zazen\, Kin Hin und Rezitation. \nGeleitet von Patrick Ho Kai Damschen. \nUm Anmeldung wird gebeten.
URL:https://zen-bonn.de/termin/zazen-im-san-bo-dojo/2022-08-23/
LOCATION:San Bo Dojo\, Heerstraße 167\, Bonn\, Nordrhein-Westfalen\, 53111\, Deutschland
CATEGORIES:Zen Tag | Zazenkai | Sesshin
ATTACH;FMTTYPE=image/jpeg:https://zen-bonn.de/wp-content/uploads/2020/11/Han-San-Bo-Dojo_klein.jpg
ORGANIZER;CN="Zen Dojo Bonn e.V.":MAILTO:info@zen-bonn.de
END:VEVENT
BEGIN:VEVENT
DTSTART;TZID=Europe/Berlin:20220818T190000
DTEND;TZID=Europe/Berlin:20220818T203000
DTSTAMP:20260424T180955
CREATED:20220519T140656Z
LAST-MODIFIED:20220519T141944Z
UID:10001132-1660849200-1660854600@zen-bonn.de
SUMMARY:Zazen im San Bo Dojo (+Zoom)
DESCRIPTION:Ein Zen Abend in der Form des Soto Zen\, mit Zazen\, Kin Hin und Rezitation. \nGeleitet von Patrick Ho Kai Damschen. \nUm Anmeldung wird gebeten. \nDer Zen Abend wird gleichzeitig via Zoom übertragen. Die Einwahldaten können per E-Mail erfragt werden. \n 
URL:https://zen-bonn.de/termin/zazen-im-san-bo-dojo-donnerstag/2022-08-18/
LOCATION:San Bo Dojo\, Heerstraße 167\, Bonn\, Nordrhein-Westfalen\, 53111\, Deutschland
CATEGORIES:Zen Tag | Zazenkai | Sesshin
ATTACH;FMTTYPE=image/jpeg:https://zen-bonn.de/wp-content/uploads/2020/11/Han-San-Bo-Dojo_klein.jpg
ORGANIZER;CN="Zen Dojo Bonn e.V.":MAILTO:info@zen-bonn.de
END:VEVENT
BEGIN:VEVENT
DTSTART;TZID=Europe/Berlin:20220816T190000
DTEND;TZID=Europe/Berlin:20220816T203000
DTSTAMP:20260424T180955
CREATED:20220331T115412Z
LAST-MODIFIED:20220331T123942Z
UID:10001067-1660676400-1660681800@zen-bonn.de
SUMMARY:Zazen im San Bo Dojo
DESCRIPTION:Ein Zen Abend in der Form des Soto Zen\, mit Zazen\, Kin Hin und Rezitation. \nGeleitet von Patrick Ho Kai Damschen. \nUm Anmeldung wird gebeten.
URL:https://zen-bonn.de/termin/zazen-im-san-bo-dojo/2022-08-16/
LOCATION:San Bo Dojo\, Heerstraße 167\, Bonn\, Nordrhein-Westfalen\, 53111\, Deutschland
CATEGORIES:Zen Tag | Zazenkai | Sesshin
ATTACH;FMTTYPE=image/jpeg:https://zen-bonn.de/wp-content/uploads/2020/11/Han-San-Bo-Dojo_klein.jpg
ORGANIZER;CN="Zen Dojo Bonn e.V.":MAILTO:info@zen-bonn.de
END:VEVENT
BEGIN:VEVENT
DTSTART;TZID=Europe/Berlin:20220811T190000
DTEND;TZID=Europe/Berlin:20220811T203000
DTSTAMP:20260424T180955
CREATED:20220519T140656Z
LAST-MODIFIED:20220519T141944Z
UID:10001131-1660244400-1660249800@zen-bonn.de
SUMMARY:Zazen im San Bo Dojo (+Zoom)
DESCRIPTION:Ein Zen Abend in der Form des Soto Zen\, mit Zazen\, Kin Hin und Rezitation. \nGeleitet von Patrick Ho Kai Damschen. \nUm Anmeldung wird gebeten. \nDer Zen Abend wird gleichzeitig via Zoom übertragen. Die Einwahldaten können per E-Mail erfragt werden. \n 
URL:https://zen-bonn.de/termin/zazen-im-san-bo-dojo-donnerstag/2022-08-11/
LOCATION:San Bo Dojo\, Heerstraße 167\, Bonn\, Nordrhein-Westfalen\, 53111\, Deutschland
CATEGORIES:Zen Tag | Zazenkai | Sesshin
ATTACH;FMTTYPE=image/jpeg:https://zen-bonn.de/wp-content/uploads/2020/11/Han-San-Bo-Dojo_klein.jpg
ORGANIZER;CN="Zen Dojo Bonn e.V.":MAILTO:info@zen-bonn.de
END:VEVENT
BEGIN:VEVENT
DTSTART;TZID=Europe/Berlin:20220809T190000
DTEND;TZID=Europe/Berlin:20220809T203000
DTSTAMP:20260424T180955
CREATED:20220331T115412Z
LAST-MODIFIED:20220331T123942Z
UID:10001066-1660071600-1660077000@zen-bonn.de
SUMMARY:Zazen im San Bo Dojo
DESCRIPTION:Ein Zen Abend in der Form des Soto Zen\, mit Zazen\, Kin Hin und Rezitation. \nGeleitet von Patrick Ho Kai Damschen. \nUm Anmeldung wird gebeten.
URL:https://zen-bonn.de/termin/zazen-im-san-bo-dojo/2022-08-09/
LOCATION:San Bo Dojo\, Heerstraße 167\, Bonn\, Nordrhein-Westfalen\, 53111\, Deutschland
CATEGORIES:Zen Tag | Zazenkai | Sesshin
ATTACH;FMTTYPE=image/jpeg:https://zen-bonn.de/wp-content/uploads/2020/11/Han-San-Bo-Dojo_klein.jpg
ORGANIZER;CN="Zen Dojo Bonn e.V.":MAILTO:info@zen-bonn.de
END:VEVENT
BEGIN:VEVENT
DTSTART;TZID=Europe/Berlin:20220804T190000
DTEND;TZID=Europe/Berlin:20220804T203000
DTSTAMP:20260424T180955
CREATED:20220519T140656Z
LAST-MODIFIED:20220519T141944Z
UID:10001130-1659639600-1659645000@zen-bonn.de
SUMMARY:Zazen im San Bo Dojo (+Zoom)
DESCRIPTION:Ein Zen Abend in der Form des Soto Zen\, mit Zazen\, Kin Hin und Rezitation. \nGeleitet von Patrick Ho Kai Damschen. \nUm Anmeldung wird gebeten. \nDer Zen Abend wird gleichzeitig via Zoom übertragen. Die Einwahldaten können per E-Mail erfragt werden. \n 
URL:https://zen-bonn.de/termin/zazen-im-san-bo-dojo-donnerstag/2022-08-04/
LOCATION:San Bo Dojo\, Heerstraße 167\, Bonn\, Nordrhein-Westfalen\, 53111\, Deutschland
CATEGORIES:Zen Tag | Zazenkai | Sesshin
ATTACH;FMTTYPE=image/jpeg:https://zen-bonn.de/wp-content/uploads/2020/11/Han-San-Bo-Dojo_klein.jpg
ORGANIZER;CN="Zen Dojo Bonn e.V.":MAILTO:info@zen-bonn.de
END:VEVENT
BEGIN:VEVENT
DTSTART;TZID=Europe/Berlin:20220802T190000
DTEND;TZID=Europe/Berlin:20220802T203000
DTSTAMP:20260424T180955
CREATED:20220331T115412Z
LAST-MODIFIED:20220331T123942Z
UID:10001065-1659466800-1659472200@zen-bonn.de
SUMMARY:Zazen im San Bo Dojo
DESCRIPTION:Ein Zen Abend in der Form des Soto Zen\, mit Zazen\, Kin Hin und Rezitation. \nGeleitet von Patrick Ho Kai Damschen. \nUm Anmeldung wird gebeten.
URL:https://zen-bonn.de/termin/zazen-im-san-bo-dojo/2022-08-02/
LOCATION:San Bo Dojo\, Heerstraße 167\, Bonn\, Nordrhein-Westfalen\, 53111\, Deutschland
CATEGORIES:Zen Tag | Zazenkai | Sesshin
ATTACH;FMTTYPE=image/jpeg:https://zen-bonn.de/wp-content/uploads/2020/11/Han-San-Bo-Dojo_klein.jpg
ORGANIZER;CN="Zen Dojo Bonn e.V.":MAILTO:info@zen-bonn.de
END:VEVENT
BEGIN:VEVENT
DTSTART;TZID=Europe/Berlin:20220728T190000
DTEND;TZID=Europe/Berlin:20220728T203000
DTSTAMP:20260424T180955
CREATED:20220519T140656Z
LAST-MODIFIED:20220519T141944Z
UID:10001129-1659034800-1659040200@zen-bonn.de
SUMMARY:Zazen im San Bo Dojo (+Zoom)
DESCRIPTION:Ein Zen Abend in der Form des Soto Zen\, mit Zazen\, Kin Hin und Rezitation. \nGeleitet von Patrick Ho Kai Damschen. \nUm Anmeldung wird gebeten. \nDer Zen Abend wird gleichzeitig via Zoom übertragen. Die Einwahldaten können per E-Mail erfragt werden. \n 
URL:https://zen-bonn.de/termin/zazen-im-san-bo-dojo-donnerstag/2022-07-28/
LOCATION:San Bo Dojo\, Heerstraße 167\, Bonn\, Nordrhein-Westfalen\, 53111\, Deutschland
CATEGORIES:Zen Tag | Zazenkai | Sesshin
ATTACH;FMTTYPE=image/jpeg:https://zen-bonn.de/wp-content/uploads/2020/11/Han-San-Bo-Dojo_klein.jpg
ORGANIZER;CN="Zen Dojo Bonn e.V.":MAILTO:info@zen-bonn.de
END:VEVENT
BEGIN:VEVENT
DTSTART;TZID=Europe/Berlin:20220726T190000
DTEND;TZID=Europe/Berlin:20220726T203000
DTSTAMP:20260424T180955
CREATED:20220331T115412Z
LAST-MODIFIED:20220331T123942Z
UID:10001064-1658862000-1658867400@zen-bonn.de
SUMMARY:Zazen im San Bo Dojo
DESCRIPTION:Ein Zen Abend in der Form des Soto Zen\, mit Zazen\, Kin Hin und Rezitation. \nGeleitet von Patrick Ho Kai Damschen. \nUm Anmeldung wird gebeten.
URL:https://zen-bonn.de/termin/zazen-im-san-bo-dojo/2022-07-26/
LOCATION:San Bo Dojo\, Heerstraße 167\, Bonn\, Nordrhein-Westfalen\, 53111\, Deutschland
CATEGORIES:Zen Tag | Zazenkai | Sesshin
ATTACH;FMTTYPE=image/jpeg:https://zen-bonn.de/wp-content/uploads/2020/11/Han-San-Bo-Dojo_klein.jpg
ORGANIZER;CN="Zen Dojo Bonn e.V.":MAILTO:info@zen-bonn.de
END:VEVENT
BEGIN:VEVENT
DTSTART;TZID=Europe/Berlin:20220721T190000
DTEND;TZID=Europe/Berlin:20220721T203000
DTSTAMP:20260424T180955
CREATED:20220519T140656Z
LAST-MODIFIED:20220519T141944Z
UID:10001128-1658430000-1658435400@zen-bonn.de
SUMMARY:Zazen im San Bo Dojo (+Zoom)
DESCRIPTION:Ein Zen Abend in der Form des Soto Zen\, mit Zazen\, Kin Hin und Rezitation. \nGeleitet von Patrick Ho Kai Damschen. \nUm Anmeldung wird gebeten. \nDer Zen Abend wird gleichzeitig via Zoom übertragen. Die Einwahldaten können per E-Mail erfragt werden. \n 
URL:https://zen-bonn.de/termin/zazen-im-san-bo-dojo-donnerstag/2022-07-21/
LOCATION:San Bo Dojo\, Heerstraße 167\, Bonn\, Nordrhein-Westfalen\, 53111\, Deutschland
CATEGORIES:Zen Tag | Zazenkai | Sesshin
ATTACH;FMTTYPE=image/jpeg:https://zen-bonn.de/wp-content/uploads/2020/11/Han-San-Bo-Dojo_klein.jpg
ORGANIZER;CN="Zen Dojo Bonn e.V.":MAILTO:info@zen-bonn.de
END:VEVENT
BEGIN:VEVENT
DTSTART;TZID=Europe/Berlin:20220719T190000
DTEND;TZID=Europe/Berlin:20220719T203000
DTSTAMP:20260424T180955
CREATED:20220331T115412Z
LAST-MODIFIED:20220331T123942Z
UID:10001063-1658257200-1658262600@zen-bonn.de
SUMMARY:Zazen im San Bo Dojo
DESCRIPTION:Ein Zen Abend in der Form des Soto Zen\, mit Zazen\, Kin Hin und Rezitation. \nGeleitet von Patrick Ho Kai Damschen. \nUm Anmeldung wird gebeten.
URL:https://zen-bonn.de/termin/zazen-im-san-bo-dojo/2022-07-19/
LOCATION:San Bo Dojo\, Heerstraße 167\, Bonn\, Nordrhein-Westfalen\, 53111\, Deutschland
CATEGORIES:Zen Tag | Zazenkai | Sesshin
ATTACH;FMTTYPE=image/jpeg:https://zen-bonn.de/wp-content/uploads/2020/11/Han-San-Bo-Dojo_klein.jpg
ORGANIZER;CN="Zen Dojo Bonn e.V.":MAILTO:info@zen-bonn.de
END:VEVENT
END:VCALENDAR