BEGIN:VCALENDAR
VERSION:2.0
PRODID:-//San Bo Dojo und Kô Getsu An - ECPv6.15.20//NONSGML v1.0//EN
CALSCALE:GREGORIAN
METHOD:PUBLISH
X-WR-CALNAME:San Bo Dojo und Kô Getsu An
X-ORIGINAL-URL:https://zen-bonn.de
X-WR-CALDESC:Veranstaltungen für San Bo Dojo und Kô Getsu An
REFRESH-INTERVAL;VALUE=DURATION:PT1H
X-Robots-Tag:noindex
X-PUBLISHED-TTL:PT1H
BEGIN:VTIMEZONE
TZID:Europe/Berlin
BEGIN:DAYLIGHT
TZOFFSETFROM:+0100
TZOFFSETTO:+0200
TZNAME:CEST
DTSTART:20180325T010000
END:DAYLIGHT
BEGIN:STANDARD
TZOFFSETFROM:+0200
TZOFFSETTO:+0100
TZNAME:CET
DTSTART:20181028T010000
END:STANDARD
BEGIN:DAYLIGHT
TZOFFSETFROM:+0100
TZOFFSETTO:+0200
TZNAME:CEST
DTSTART:20190331T010000
END:DAYLIGHT
BEGIN:STANDARD
TZOFFSETFROM:+0200
TZOFFSETTO:+0100
TZNAME:CET
DTSTART:20191027T010000
END:STANDARD
BEGIN:DAYLIGHT
TZOFFSETFROM:+0100
TZOFFSETTO:+0200
TZNAME:CEST
DTSTART:20200329T010000
END:DAYLIGHT
BEGIN:STANDARD
TZOFFSETFROM:+0200
TZOFFSETTO:+0100
TZNAME:CET
DTSTART:20201025T010000
END:STANDARD
END:VTIMEZONE
BEGIN:VEVENT
DTSTART;TZID=Europe/Berlin:20190522T190000
DTEND;TZID=Europe/Berlin:20190522T210000
DTSTAMP:20260424T160231
CREATED:20190418T153512Z
LAST-MODIFIED:20190418T154115Z
UID:10000858-1558551600-1558558800@zen-bonn.de
SUMMARY:Film: Frühling\, Sommer\, Herbst\, Winter... und Frühling
DESCRIPTION:Das Netzwerk Buddhismus Bonn lädt ein zu „Frühling\, Sommer\, Herbst\, Winter… und Frühling„\, einem Film des südkoreanischen Regisseurs Kim Ki-duk aus dem Jahr 2003. \nDer Film erzählt die Geschichte eines Meisters – ein koreanischer\, buddhistischer Mönch – und seines Schülers – ein Kind und Novize – als Kreislauf des Lebens. Schauplatz des Filmes und Lebenswelt der beiden Einsiedler ist eine Floß-Klause auf einem See\, der mitten zwischen bewaldeten Bergen gelegenen ist. Die Klause ist nur durch ein Tor am Ufer mit einem einzelnen Boot zu erreichen. Das Floß scheint bewegungslos dazuliegen\, tatsächlich schwimmt und dreht es sich auf dem See\, der von einer kaum sichtbaren Strömung bewegt wird und dessen Wasserstand immer wieder wechselt – eine Dynamik\, die der Kamera und damit symbolisch dem Leben beider Menschen verwehrt bleibt. \nTrailer
URL:https://zen-bonn.de/termin/film-fruehling-sommer-herbst-winter-und-fruehling/
LOCATION:Kino der Brotfabrik\, Kreuzstraße 16\, Bonn\, 53225\, Deutschland
CATEGORIES:Sonstiges
ATTACH;FMTTYPE=image/jpeg:https://zen-bonn.de/wp-content/uploads/2019/04/fruehling-sommer-herbst-winter-fruehling.jpg
END:VEVENT
END:VCALENDAR