BEGIN:VCALENDAR
VERSION:2.0
PRODID:-//San Bo Dojo und Kô Getsu An - ECPv6.15.20//NONSGML v1.0//EN
CALSCALE:GREGORIAN
METHOD:PUBLISH
X-ORIGINAL-URL:https://zen-bonn.de
X-WR-CALDESC:Veranstaltungen für San Bo Dojo und Kô Getsu An
REFRESH-INTERVAL;VALUE=DURATION:PT1H
X-Robots-Tag:noindex
X-PUBLISHED-TTL:PT1H
BEGIN:VTIMEZONE
TZID:Europe/Berlin
BEGIN:DAYLIGHT
TZOFFSETFROM:+0100
TZOFFSETTO:+0200
TZNAME:CEST
DTSTART:20180325T010000
END:DAYLIGHT
BEGIN:STANDARD
TZOFFSETFROM:+0200
TZOFFSETTO:+0100
TZNAME:CET
DTSTART:20181028T010000
END:STANDARD
BEGIN:DAYLIGHT
TZOFFSETFROM:+0100
TZOFFSETTO:+0200
TZNAME:CEST
DTSTART:20190331T010000
END:DAYLIGHT
BEGIN:STANDARD
TZOFFSETFROM:+0200
TZOFFSETTO:+0100
TZNAME:CET
DTSTART:20191027T010000
END:STANDARD
BEGIN:DAYLIGHT
TZOFFSETFROM:+0100
TZOFFSETTO:+0200
TZNAME:CEST
DTSTART:20200329T010000
END:DAYLIGHT
BEGIN:STANDARD
TZOFFSETFROM:+0200
TZOFFSETTO:+0100
TZNAME:CET
DTSTART:20201025T010000
END:STANDARD
BEGIN:DAYLIGHT
TZOFFSETFROM:+0100
TZOFFSETTO:+0200
TZNAME:CEST
DTSTART:20210328T010000
END:DAYLIGHT
BEGIN:STANDARD
TZOFFSETFROM:+0200
TZOFFSETTO:+0100
TZNAME:CET
DTSTART:20211031T010000
END:STANDARD
BEGIN:DAYLIGHT
TZOFFSETFROM:+0100
TZOFFSETTO:+0200
TZNAME:CEST
DTSTART:20220327T010000
END:DAYLIGHT
BEGIN:STANDARD
TZOFFSETFROM:+0200
TZOFFSETTO:+0100
TZNAME:CET
DTSTART:20221030T010000
END:STANDARD
END:VTIMEZONE
BEGIN:VEVENT
DTSTART;TZID=Europe/Berlin:20210129T070000
DTEND;TZID=Europe/Berlin:20210131T150000
DTSTAMP:20260424T063456
CREATED:20200904T124151Z
LAST-MODIFIED:20210117T130736Z
UID:10000817-1611903600-1612105200@zen-bonn.de
SUMMARY:Zen Sesshin mit Frauke Shin Jin Blessmann
DESCRIPTION:Das Zen Sesshin mit Zen-Nonne Frauke Shin Jin Blessmann in der Grube Louise wird leider\, wegen der hohen Corona-Infektionszahlen\, nicht stattfinden. \n  \nFrauke Shin Jin Bleßmann wurde 1962 geboren. Sie kam 1990 mit dem Zen-Buddhismus in Kontakt und ist seitdem Schülerin von Zen-Meister Roland Yuno Rech. 1998 erhielt sie die Nonnenordination. Seit 1999 ist sie Mit-Verantwortliche des Zendo Köln und unterweist seit vielen Jahren die Praxis der Zenküche (des Tenzo) und des Nähens von Rakusu und Kesa. Sie leitet Zazen-Tage und hilft bei den Ordinationsvorbereitungen ihres Meisters. \n 
URL:https://zen-bonn.de/termin/zen-sesshin-mit-frauke-blessmann/
LOCATION:Grube Louise\, Bergstr.1-5\, Bürdenbach\, 56593\, Deutschland
CATEGORIES:Zen Tag | Zazenkai | Sesshin
ATTACH;FMTTYPE=image/jpeg:https://zen-bonn.de/wp-content/uploads/2020/09/Zen-Sesshin-Grube-01-2021.jpg
END:VEVENT
BEGIN:VEVENT
DTSTART;TZID=Europe/Berlin:20201002T070000
DTEND;TZID=Europe/Berlin:20201004T150000
DTSTAMP:20260424T063456
CREATED:20190418T101406Z
LAST-MODIFIED:20190418T144417Z
UID:10000851-1601622000-1601823600@zen-bonn.de
SUMMARY:Zen Sesshin mit Roland Yuno Rech
DESCRIPTION:Vom 02.10. – 04.10.2020 findet ein Zen Sesshin mit Roland Yuno Rech in der Grube Louise im Westerwald statt. \nRoland Yuno Rech war ein enger Schüler von Meister Taisen Deshimaru. Er folgt der Tradition des Soto-Zen\, in der die Unterweisung direkt von Meister zu Schüler weitergeben wird\, seit Dogen Zenji bis zu Kodo Sawaki und Taisen Deshimaru. Im Sommer 1984 erhielt Roland Yuno Rech das Shiho (das Siegel der Weitergabe) von Niwa Zenji\, dem damaligen Abt des Tempels Eihei-ji und der höchsten Autorität des Soto-Zen in Japan\, der damit die Authentizität seiner Unterweisung bekräftigte. \nRoland Yuno Rech leitet jedes Jahr zahlreiche Sesshins in Europa. Er ist Abt des Zen-Tempels Gyo Butsu-Ji in Nizza\, Frankreich.
URL:https://zen-bonn.de/termin/zen-sesshin-mit-roland-yuno-rech/
LOCATION:Grube Louise\, Bergstr.1-5\, Bürdenbach\, 56593\, Deutschland
CATEGORIES:Zen Tag | Zazenkai | Sesshin
END:VEVENT
BEGIN:VEVENT
DTSTART;TZID=Europe/Berlin:20200516T070000
DTEND;TZID=Europe/Berlin:20200524T150000
DTSTAMP:20260424T063456
CREATED:20190418T100944Z
LAST-MODIFIED:20200430T112710Z
UID:10000850-1589612400-1590332400@zen-bonn.de
SUMMARY:Zen Frühlingslager mit Roland Yuno Rech
DESCRIPTION:Das Frühlingslager/Sesshin wurde wegen der Corona-Krise abgesagt.\n \nAn einem Sesshin teilnehmen heißt\, den Herz-Geist zu berühren\, seinen Egoismus aufzugeben und sich mit den anderen der Gruppe und ganz allgemein mit der kosmischen Ordnung zu harmonisieren. Während eines Sesshins ist jede Handlung die Fortführung von Zazen. Jeder Augenblick wird vollständig gelebt. \nDas neuntägige Frühlingslager besteht aus einer Vorbereitungszeit von fünf Tagen\, einem Ruhetag und einem Sesshin. \nNeben Zazen ist die gemeinschaftliche Arbeit (Samu) ein wichtiger Teil der Praxis. Ebenso besteht die Möglichkeit\, an einem Dokusan (Zwiegespräch zwischen Meister & Schüler) teilzunehmen. Während des Frühlingslagers finden in der Vorbereitungszeit Workshops und praktische Anleitungen zu Themen aus dem Zen-Buddhismus statt. Am Ende des Lager gibt es in der Regel eine Ordinationszeremonie. Unterstützung und Anleitung zum Nähen von Kesa und Rakusu wird in der Nähstube angeboten. \nRoland Yuno Rech war ein enger Schüler von Meister Taisen Deshimaru. Er folgt der Tradition des Soto-Zen\, in der die Unterweisung direkt von Meister zu Schüler weitergeben wird\, seit Dogen Zenji bis zu Kodo Sawaki und Taisen Deshimaru. Im Sommer 1984 erhielt Roland Yuno Rech das Shiho (das Siegel der Weitergabe) von Niwa Zenji\, dem damaligen Abt des Tempels Eihei-ji und der höchsten Autorität des Soto-Zen in Japan\, der damit die Authentizität seiner Unterweisung bekräftigte. \nRoland Yuno Rech leitet jedes Jahr zahlreiche Sesshins in Europa. Er ist Abt des Zen-Tempels Gyo Butsu-Ji in Nizza\, Frankreich.
URL:https://zen-bonn.de/termin/zen-fruehlingslager-mit-roland-yuno-rech/
LOCATION:Grube Louise\, Bergstr.1-5\, Bürdenbach\, 56593\, Deutschland
CATEGORIES:Zen Tag | Zazenkai | Sesshin
END:VEVENT
BEGIN:VEVENT
DTSTART;TZID=Europe/Berlin:20200124T070000
DTEND;TZID=Europe/Berlin:20200126T150000
DTSTAMP:20260424T063456
CREATED:20190418T100246Z
LAST-MODIFIED:20240411T145504Z
UID:10000849-1579849200-1580050800@zen-bonn.de
SUMMARY:Zen Sesshin mit Silvia Hoju Leyer
DESCRIPTION:Am Wochenende\, 24.01. – 26.01.2020\, findet ein Zen Sesshin mit Silvia Hoju Leyer in der Grube Louise statt. \nSilvia Hoju Leyer leitet das „Kanjizai“ Dojo in Aachen. Sie ist eine langjährige Schülerin von Roland Yuno Rech und übersetzt seit vielen Jahren seine Unterweisungen ins Deutsche. Silvia Hoju Leyer ist Vorsitzende der Zen-buddhistischen Vereinigung Europas (Association Bouddhiste Zen d’Europe) und des Vereins Zendo Aachen. Sie leitet Zazen-Tage und Dharma-Workshops und lebt in Aachen.
URL:https://zen-bonn.de/termin/zen-sesshin-mit-silvia-hoju-leyer/
LOCATION:Grube Louise\, Bergstr.1-5\, Bürdenbach\, 56593\, Deutschland
CATEGORIES:Zen Tag | Zazenkai | Sesshin
ATTACH;FMTTYPE=image/jpeg:https://zen-bonn.de/wp-content/uploads/2019/04/Silvia-Leyer-Aachen.jpg
END:VEVENT
BEGIN:VEVENT
DTSTART;TZID=Europe/Berlin:20190927T070000
DTEND;TZID=Europe/Berlin:20190929T140000
DTSTAMP:20260424T063456
CREATED:20190417T184217Z
LAST-MODIFIED:20190528T144102Z
UID:10000847-1569567600-1569765600@zen-bonn.de
SUMMARY:Zen Sesshin mit Meister Roland Yuno Rech
DESCRIPTION:Roland Yuno Rech war ein enger Schüler von Meister Taisen Deshimaru. Er folgt der Tradition des Soto-Zen\, in der die Unterweisung direkt von Meister zu Schüler weitergeben wird\, seit Dogen Zenji bis zu Kodo Sawaki und Taisen Deshimaru. Im Sommer 1984 erhielt Roland Yuno Rech das Shiho (das Siegel der Weitergabe) von Niwa Zenji\, dem damaligen Abt des Tempels Eihei-ji und der höchsten Autorität des Soto-Zen in Japan\, der damit die Authentizität seiner Unterweisung bekräftigte. \nRoland Rech leitet jedes Jahr zahlreiche Sesshins in Europa. Er ist Abt des Zen-Tempels Gyo Butsu-Ji in Nizza\, Frankreich.
URL:https://zen-bonn.de/termin/zen-sesshin-mit-meister-roland-yuno-rech/
LOCATION:Grube Louise\, Bergstr.1-5\, Bürdenbach\, 56593\, Deutschland
CATEGORIES:Zen Tag | Zazenkai | Sesshin
ATTACH;FMTTYPE=image/jpeg:https://zen-bonn.de/wp-content/uploads/2019/04/roland_y_rech.jpg
END:VEVENT
BEGIN:VEVENT
DTSTART;VALUE=DATE:20190525
DTEND;VALUE=DATE:20190603
DTSTAMP:20260424T063456
CREATED:20190417T181421Z
LAST-MODIFIED:20190418T144643Z
UID:10000844-1558742400-1559519999@zen-bonn.de
SUMMARY:Frühjahrslager mit Roland Yuno Rech
DESCRIPTION:In der Grube Louise\, Westerwald\, finden jedes Jahr unter der Leitung von Roland Yuno Rech zwei Zen-Sesshins statt\, die jeweils zweieinhalb Tage dauern. Zusätzlich gibt es im Mai ein neuntägiges Frühlingslager bestehend aus einer Vorbereitungszeit von fünf Tagen\, einem Ruhetag und einem Sesshin. Während des Sesshins praktizieren wir viermal\, während der Vorbereitungszeit dreimal am Tag Zazen. Jedes Zazen besteht aus 40 Minuten Sitzmeditation\, anschließendem Kinhin (Meditation im Gehen) und dann wieder 40 Minuten Sitzmeditation. Neben Zazen ist die gemeinschaftliche Arbeit (Samu) ein wichtiger Teil der Praxis. Ebenso besteht die Möglichkeit\, an einem Dokusan (Zwiegespräch zwischen Meister & Schüler) teilzunehmen. \nWährend des Frühlingslagers finden in der Vorbereitungszeit Workshops und praktische Anleitungen zu Themen aus dem Zen-Buddhismus statt. Am Ende des Lager gibt es in der Regel eine Ordinationszeremonie. Menschen\, die um eine Ordination als Bodhisattva\, als Nonne oder Mönch bitten möchten\, sollten dies vorab mit dem Leiter oder der Leiterin ihres Dojos besprechen. Unterstützung und Anleitung zum Nähen von Kesa und Rakusu wird in der Nähstube angeboten. \nTermin: 25.05. – 02.06.2019\nOrt: Grube Louise\, Westerwald\nInfos: https://sites.google.com/site/zensanghasesshin/home
URL:https://zen-bonn.de/termin/fruehjahrslager-mit-roland-yuno-rech/
LOCATION:Grube Louise\, Bergstr.1-5\, Bürdenbach\, 56593\, Deutschland
CATEGORIES:Zen Tag | Zazenkai | Sesshin
ATTACH;FMTTYPE=image/jpeg:https://zen-bonn.de/wp-content/uploads/2019/04/roland-rech.jpg
END:VEVENT
END:VCALENDAR