BEGIN:VCALENDAR
VERSION:2.0
PRODID:-//San Bo Dojo und Kô Getsu An - ECPv6.15.20//NONSGML v1.0//EN
CALSCALE:GREGORIAN
METHOD:PUBLISH
X-WR-CALNAME:San Bo Dojo und Kô Getsu An
X-ORIGINAL-URL:https://zen-bonn.de
X-WR-CALDESC:Veranstaltungen für San Bo Dojo und Kô Getsu An
REFRESH-INTERVAL;VALUE=DURATION:PT1H
X-Robots-Tag:noindex
X-PUBLISHED-TTL:PT1H
BEGIN:VTIMEZONE
TZID:Europe/Berlin
BEGIN:DAYLIGHT
TZOFFSETFROM:+0100
TZOFFSETTO:+0200
TZNAME:CEST
DTSTART:20180325T010000
END:DAYLIGHT
BEGIN:STANDARD
TZOFFSETFROM:+0200
TZOFFSETTO:+0100
TZNAME:CET
DTSTART:20181028T010000
END:STANDARD
BEGIN:DAYLIGHT
TZOFFSETFROM:+0100
TZOFFSETTO:+0200
TZNAME:CEST
DTSTART:20190331T010000
END:DAYLIGHT
BEGIN:STANDARD
TZOFFSETFROM:+0200
TZOFFSETTO:+0100
TZNAME:CET
DTSTART:20191027T010000
END:STANDARD
BEGIN:DAYLIGHT
TZOFFSETFROM:+0100
TZOFFSETTO:+0200
TZNAME:CEST
DTSTART:20200329T010000
END:DAYLIGHT
BEGIN:STANDARD
TZOFFSETFROM:+0200
TZOFFSETTO:+0100
TZNAME:CET
DTSTART:20201025T010000
END:STANDARD
END:VTIMEZONE
BEGIN:VEVENT
DTSTART;TZID=Europe/Berlin:20191011T190000
DTEND;TZID=Europe/Berlin:20191013T150000
DTSTAMP:20260424T113909
CREATED:20190327T151225Z
LAST-MODIFIED:20190801T135021Z
UID:10000841-1570820400-1570978800@zen-bonn.de
SUMMARY:Zen & Sensory Awareness Workshop mit Stefan Laeng\, Johanna Debik und Patrick Damschen
DESCRIPTION:Jeder Moment unseres Lebens birgt ein Angebot\, anwesend zu werden. Dies ist die besondere – aber auch herausfordernde – Einladung von Sensory Awareness. Es geht darum\, in Beziehung zu kommen – mit unserer Umwelt in all ihren Formen\, mit uns selbst. \nDieser Workshops beinhaltet Phasen klassischer Zen-Praxis sowie Workshopanteile von Sensory Awareness. In dieser Zeit können die Teilnehmenden ihre Erfahrungen in Stille\, Bewegung und Begegnung vertiefen. \nZen-Praktizierende aller Traditionen sowie Sensory Awareness Praktiker sind herzlich eingeladen. \nOrt der Veranstaltung ist die kleine Dorfschule in Hesseln-Leubsdorf bei Bonn. Die Dorfschule mit max 20 Plätzen (EZ und DZ) bietet einen familären Rahmen für die gemeinsame Praxis. \nKosten: 195\,00 € / 145\,00 € für Mitglieder des Zen Dojo Bonn e.V.\ninkl. Unterbringung und Verpflegung (vegan) \nStefan Laeng ist Sensory Awareness Lehrer. Er lebt in Peterborough\, New Hampshire\, USA und arbeitet regelmäßig auch in Europa. Er ist Executive Director der Sensory Awareness Foundation. Gegenwärtig arbeitet er an einer ausführlichen Biographie über Charlotte Selver. Seit den frühen 1980er Jahren sind Sensory Awareness und Buddhismus richtungsweisend in seinem Leben und seiner Arbeit. \nInfos: www.MindfulnessInMotion.net \nAnmeldungen bitte per E-Mail an: info@zen-bonn.de
URL:https://zen-bonn.de/termin/zen-sensory-awareness-workshops-mit-stefan-laeng-hesseln/
LOCATION:Dorfschule Hesseln\, Dorfstraße 40\, Hesseln-Leubsdorf\, 53562\, Deutschland
CATEGORIES:Workshop | Seminar,Zen Tag | Zazenkai | Sesshin
ATTACH;FMTTYPE=image/jpeg:https://zen-bonn.de/wp-content/uploads/2019/03/Facebook-Zen_und-Sensory_2019.jpg
ORGANIZER;CN="Zen Dojo Bonn e.V.":MAILTO:info@zen-bonn.de
END:VEVENT
END:VCALENDAR