BEGIN:VCALENDAR
VERSION:2.0
PRODID:-//San Bo Dojo und Kô Getsu An - ECPv6.15.20//NONSGML v1.0//EN
CALSCALE:GREGORIAN
METHOD:PUBLISH
X-WR-CALNAME:San Bo Dojo und Kô Getsu An
X-ORIGINAL-URL:https://zen-bonn.de
X-WR-CALDESC:Veranstaltungen für San Bo Dojo und Kô Getsu An
REFRESH-INTERVAL;VALUE=DURATION:PT1H
X-Robots-Tag:noindex
X-PUBLISHED-TTL:PT1H
BEGIN:VTIMEZONE
TZID:Europe/Berlin
BEGIN:DAYLIGHT
TZOFFSETFROM:+0100
TZOFFSETTO:+0200
TZNAME:CEST
DTSTART:20250330T010000
END:DAYLIGHT
BEGIN:STANDARD
TZOFFSETFROM:+0200
TZOFFSETTO:+0100
TZNAME:CET
DTSTART:20251026T010000
END:STANDARD
BEGIN:DAYLIGHT
TZOFFSETFROM:+0100
TZOFFSETTO:+0200
TZNAME:CEST
DTSTART:20260329T010000
END:DAYLIGHT
BEGIN:STANDARD
TZOFFSETFROM:+0200
TZOFFSETTO:+0100
TZNAME:CET
DTSTART:20261025T010000
END:STANDARD
BEGIN:DAYLIGHT
TZOFFSETFROM:+0100
TZOFFSETTO:+0200
TZNAME:CEST
DTSTART:20270328T010000
END:DAYLIGHT
BEGIN:STANDARD
TZOFFSETFROM:+0200
TZOFFSETTO:+0100
TZNAME:CET
DTSTART:20271031T010000
END:STANDARD
END:VTIMEZONE
BEGIN:VEVENT
DTSTART;TZID=Europe/Berlin:20260614T090000
DTEND;TZID=Europe/Berlin:20260614T170000
DTSTAMP:20260423T221627
CREATED:20250903T152940Z
LAST-MODIFIED:20250903T152940Z
UID:10001307-1781427600-1781456400@zen-bonn.de
SUMMARY:Zen Tag in Stille
DESCRIPTION:Der Zen Tag in Stille im Kô Getsu An bietet die Gelegenheit\, das Sitzen in Stille intensiv zu üben. \nDer Ablauf orientiert sich am “Antaiji-Stil”. Zazen und Kin Hin wechseln einander ab. \nAblauf: \n08:30 Ankommen\n09:00 Begrüßung\n09:15 Zazen\n10:00 Kinhin\n10:15 Zazen\n11:00 Kinhin\n11:15 Zazen\n12:00 Gemeinsames Mittagessen\n12:30 Pause\n13:30 Zazen\n14:15 Kinhin\n14:30 Zazen\n15:15 Kinhin\n15:30 Zazen\n16:15 Samu\n16:45 Tee und Abschluss\n17:00 Ende \nFür das gemeinsame Mittagessen wird gesorgt. Wenn möglich\, bitte Oryoki oder 3-5 Ess-Schalen und Löffel mitbringen. \nDer Zen Tag in Stille wird geleitet von Patrick Ho Kai. \nUm vorherige Anmeldung wird gebeten. \nKostenbeitrag: 30\,00 €
URL:https://zen-bonn.de/termin/zen-tag-in-stille-2026/2026-06-14/
LOCATION:Ko Getsu An – Einsiedelei klarer Mond (Zen Haus Blankenbach)\, Uthweiler Str. 32\, Hennef-Blankenbach\, 53773\, Deutschland
CATEGORIES:Zen Tag | Zazenkai | Sesshin
ATTACH;FMTTYPE=image/jpeg:https://zen-bonn.de/wp-content/uploads/2019/04/Blind-man-bridge-Logo-Zen-Tag-in-Stille.jpg
ORGANIZER;CN="Zen Dojo Bonn e.V.":MAILTO:info@zen-bonn.de
END:VEVENT
BEGIN:VEVENT
DTSTART;TZID=Europe/Berlin:20260913T090000
DTEND;TZID=Europe/Berlin:20260913T170000
DTSTAMP:20260423T221627
CREATED:20250903T152940Z
LAST-MODIFIED:20250903T152940Z
UID:10001308-1789290000-1789318800@zen-bonn.de
SUMMARY:Zen Tag in Stille
DESCRIPTION:Der Zen Tag in Stille im Kô Getsu An bietet die Gelegenheit\, das Sitzen in Stille intensiv zu üben. \nDer Ablauf orientiert sich am “Antaiji-Stil”. Zazen und Kin Hin wechseln einander ab. \nAblauf: \n08:30 Ankommen\n09:00 Begrüßung\n09:15 Zazen\n10:00 Kinhin\n10:15 Zazen\n11:00 Kinhin\n11:15 Zazen\n12:00 Gemeinsames Mittagessen\n12:30 Pause\n13:30 Zazen\n14:15 Kinhin\n14:30 Zazen\n15:15 Kinhin\n15:30 Zazen\n16:15 Samu\n16:45 Tee und Abschluss\n17:00 Ende \nFür das gemeinsame Mittagessen wird gesorgt. Wenn möglich\, bitte Oryoki oder 3-5 Ess-Schalen und Löffel mitbringen. \nDer Zen Tag in Stille wird geleitet von Patrick Ho Kai. \nUm vorherige Anmeldung wird gebeten. \nKostenbeitrag: 30\,00 €
URL:https://zen-bonn.de/termin/zen-tag-in-stille-2026/2026-09-13/
LOCATION:Ko Getsu An – Einsiedelei klarer Mond (Zen Haus Blankenbach)\, Uthweiler Str. 32\, Hennef-Blankenbach\, 53773\, Deutschland
CATEGORIES:Zen Tag | Zazenkai | Sesshin
ATTACH;FMTTYPE=image/jpeg:https://zen-bonn.de/wp-content/uploads/2019/04/Blind-man-bridge-Logo-Zen-Tag-in-Stille.jpg
ORGANIZER;CN="Zen Dojo Bonn e.V.":MAILTO:info@zen-bonn.de
END:VEVENT
BEGIN:VEVENT
DTSTART;TZID=Europe/Berlin:20261213T090000
DTEND;TZID=Europe/Berlin:20261213T170000
DTSTAMP:20260423T221627
CREATED:20250903T152940Z
LAST-MODIFIED:20250903T152940Z
UID:10001309-1797152400-1797181200@zen-bonn.de
SUMMARY:Zen Tag in Stille
DESCRIPTION:Der Zen Tag in Stille im Kô Getsu An bietet die Gelegenheit\, das Sitzen in Stille intensiv zu üben. \nDer Ablauf orientiert sich am “Antaiji-Stil”. Zazen und Kin Hin wechseln einander ab. \nAblauf: \n08:30 Ankommen\n09:00 Begrüßung\n09:15 Zazen\n10:00 Kinhin\n10:15 Zazen\n11:00 Kinhin\n11:15 Zazen\n12:00 Gemeinsames Mittagessen\n12:30 Pause\n13:30 Zazen\n14:15 Kinhin\n14:30 Zazen\n15:15 Kinhin\n15:30 Zazen\n16:15 Samu\n16:45 Tee und Abschluss\n17:00 Ende \nFür das gemeinsame Mittagessen wird gesorgt. Wenn möglich\, bitte Oryoki oder 3-5 Ess-Schalen und Löffel mitbringen. \nDer Zen Tag in Stille wird geleitet von Patrick Ho Kai. \nUm vorherige Anmeldung wird gebeten. \nKostenbeitrag: 30\,00 €
URL:https://zen-bonn.de/termin/zen-tag-in-stille-2026/2026-12-13/
LOCATION:Ko Getsu An – Einsiedelei klarer Mond (Zen Haus Blankenbach)\, Uthweiler Str. 32\, Hennef-Blankenbach\, 53773\, Deutschland
CATEGORIES:Zen Tag | Zazenkai | Sesshin
ATTACH;FMTTYPE=image/jpeg:https://zen-bonn.de/wp-content/uploads/2019/04/Blind-man-bridge-Logo-Zen-Tag-in-Stille.jpg
ORGANIZER;CN="Zen Dojo Bonn e.V.":MAILTO:info@zen-bonn.de
END:VEVENT
END:VCALENDAR