BEGIN:VCALENDAR
VERSION:2.0
PRODID:-//San Bo Dojo und Kô Getsu An - ECPv6.15.20//NONSGML v1.0//EN
CALSCALE:GREGORIAN
METHOD:PUBLISH
X-WR-CALNAME:San Bo Dojo und Kô Getsu An
X-ORIGINAL-URL:https://zen-bonn.de
X-WR-CALDESC:Veranstaltungen für San Bo Dojo und Kô Getsu An
REFRESH-INTERVAL;VALUE=DURATION:PT1H
X-Robots-Tag:noindex
X-PUBLISHED-TTL:PT1H
BEGIN:VTIMEZONE
TZID:Europe/Berlin
BEGIN:DAYLIGHT
TZOFFSETFROM:+0100
TZOFFSETTO:+0200
TZNAME:CEST
DTSTART:20250330T010000
END:DAYLIGHT
BEGIN:STANDARD
TZOFFSETFROM:+0200
TZOFFSETTO:+0100
TZNAME:CET
DTSTART:20251026T010000
END:STANDARD
BEGIN:DAYLIGHT
TZOFFSETFROM:+0100
TZOFFSETTO:+0200
TZNAME:CEST
DTSTART:20260329T010000
END:DAYLIGHT
BEGIN:STANDARD
TZOFFSETFROM:+0200
TZOFFSETTO:+0100
TZNAME:CET
DTSTART:20261025T010000
END:STANDARD
BEGIN:DAYLIGHT
TZOFFSETFROM:+0100
TZOFFSETTO:+0200
TZNAME:CEST
DTSTART:20270328T010000
END:DAYLIGHT
BEGIN:STANDARD
TZOFFSETFROM:+0200
TZOFFSETTO:+0100
TZNAME:CET
DTSTART:20271031T010000
END:STANDARD
END:VTIMEZONE
BEGIN:VEVENT
DTSTART;TZID=Europe/Berlin:20260705T090000
DTEND;TZID=Europe/Berlin:20260705T170000
DTSTAMP:20260423T224048
CREATED:20250903T152337Z
LAST-MODIFIED:20251229T104232Z
UID:10001304-1783242000-1783270800@zen-bonn.de
SUMMARY:Zen und Bogen
DESCRIPTION:Die Zen und Bogen Tage im Kô Getsu An (Zen Haus Blankenbach) werden geleitet von Charlotte Sei On\, die seit über 20 Jahren den Weg des Bogens geht. \nMit der gleichen Konzentration\, die wir beim Zazen auf unseren Atem\, unseren Körper und damit auf das Sein in diesem Moment richten\, richten wir unseren Fokus beim intuitiven Bogenschießen auf die Technik\, den Ablauf\, unseren Atem\, unseren Körper und unser Tun im Hier und Jetzt. Dabei können wir unsere – alltäglichen – charakteristischen Mechanismen und Verhaltensweisen wie in einem Spiegel erkennen – und anerkennen. Zum Beispiel Ehrgeiz\, Neid\, Angst\, Mutlosigkeit\, Ungeduld usw. Das zielbewusste Schießen-Lernen\, das Üben der Technik\, des Ablaufs\, der äußeren Form kann dann – nach und nach– zu absichtslosem Tun\, zu absoluter Präsenz werden. Das Bogenschießen wird zur Meditation\, mitten im Leben\, in Freude und Freiheit. \nAblauf: \nWir beginnen um 09:00 Uhr mit Zazen und einem Impulsvortrag. Nach dem Zazen üben wir mit dem Bogen bis ca. 12:30 Uhr\, anschließend gemeinsames Mittagessen. Nach einer Pause starten wir ab ca. 14:00 Uhr wieder der Bogenübung\, gefolgt von einer abschließenden Einheit Zazen. Zum Ende üben wir uns beim Samu in Spurlosigkeit. \nWährend des Tages wollen wir „edles Schweigen“ üben. Ausgenommen hiervon sind – natürlich – die Anleitungen zur Bogenübung und Fragen der Teilnehmer*innen. \nWir werden draußen schießen\, bitte entsprechende Kleidung wählen. In der Zendo tragen wir dunkle (schwarz) und bequeme Kleidung. Bei länger andauerndem Regen können wir auch unter dem Dach des Anbaus schießen. Geübt wird mit einfachen Lang- und Reiterbögen ohne jegliche technische Unterstützung. \nUm Anmeldung wird gebeten. Interessierte Anfänger*innen und Fortgeschrittene sind herzlich willkommen. \nKostenbeitrag: 45\,00 € \nDer Kostenbeitrag umfasst die Teilnahme am Kurs inkl. dem Ausleihen des Equipments\, wie Bögen\, Pfeile\, Armschutz. Darüber hinaus bitten wir um ein Fuse/Dana für das Haus.
URL:https://zen-bonn.de/termin/zen-und-bogen-2026/2026-07-05/
LOCATION:Ko Getsu An – Einsiedelei klarer Mond (Zen Haus Blankenbach)\, Uthweiler Str. 32\, Hennef-Blankenbach\, 53773\, Deutschland
CATEGORIES:Zen Tag | Zazenkai | Sesshin
ATTACH;FMTTYPE=image/jpeg:https://zen-bonn.de/wp-content/uploads/2023/09/Zen-und-Bogen.jpg
ORGANIZER;CN="Zen Dojo Bonn e.V.":MAILTO:info@zen-bonn.de
END:VEVENT
BEGIN:VEVENT
DTSTART;TZID=Europe/Berlin:20261011T090000
DTEND;TZID=Europe/Berlin:20261011T170000
DTSTAMP:20260423T224048
CREATED:20250903T152337Z
LAST-MODIFIED:20251229T104232Z
UID:10001305-1791709200-1791738000@zen-bonn.de
SUMMARY:Zen und Bogen
DESCRIPTION:Die Zen und Bogen Tage im Kô Getsu An (Zen Haus Blankenbach) werden geleitet von Charlotte Sei On\, die seit über 20 Jahren den Weg des Bogens geht. \nMit der gleichen Konzentration\, die wir beim Zazen auf unseren Atem\, unseren Körper und damit auf das Sein in diesem Moment richten\, richten wir unseren Fokus beim intuitiven Bogenschießen auf die Technik\, den Ablauf\, unseren Atem\, unseren Körper und unser Tun im Hier und Jetzt. Dabei können wir unsere – alltäglichen – charakteristischen Mechanismen und Verhaltensweisen wie in einem Spiegel erkennen – und anerkennen. Zum Beispiel Ehrgeiz\, Neid\, Angst\, Mutlosigkeit\, Ungeduld usw. Das zielbewusste Schießen-Lernen\, das Üben der Technik\, des Ablaufs\, der äußeren Form kann dann – nach und nach– zu absichtslosem Tun\, zu absoluter Präsenz werden. Das Bogenschießen wird zur Meditation\, mitten im Leben\, in Freude und Freiheit. \nAblauf: \nWir beginnen um 09:00 Uhr mit Zazen und einem Impulsvortrag. Nach dem Zazen üben wir mit dem Bogen bis ca. 12:30 Uhr\, anschließend gemeinsames Mittagessen. Nach einer Pause starten wir ab ca. 14:00 Uhr wieder der Bogenübung\, gefolgt von einer abschließenden Einheit Zazen. Zum Ende üben wir uns beim Samu in Spurlosigkeit. \nWährend des Tages wollen wir „edles Schweigen“ üben. Ausgenommen hiervon sind – natürlich – die Anleitungen zur Bogenübung und Fragen der Teilnehmer*innen. \nWir werden draußen schießen\, bitte entsprechende Kleidung wählen. In der Zendo tragen wir dunkle (schwarz) und bequeme Kleidung. Bei länger andauerndem Regen können wir auch unter dem Dach des Anbaus schießen. Geübt wird mit einfachen Lang- und Reiterbögen ohne jegliche technische Unterstützung. \nUm Anmeldung wird gebeten. Interessierte Anfänger*innen und Fortgeschrittene sind herzlich willkommen. \nKostenbeitrag: 45\,00 € \nDer Kostenbeitrag umfasst die Teilnahme am Kurs inkl. dem Ausleihen des Equipments\, wie Bögen\, Pfeile\, Armschutz. Darüber hinaus bitten wir um ein Fuse/Dana für das Haus.
URL:https://zen-bonn.de/termin/zen-und-bogen-2026/2026-10-11/
LOCATION:Ko Getsu An – Einsiedelei klarer Mond (Zen Haus Blankenbach)\, Uthweiler Str. 32\, Hennef-Blankenbach\, 53773\, Deutschland
CATEGORIES:Zen Tag | Zazenkai | Sesshin
ATTACH;FMTTYPE=image/jpeg:https://zen-bonn.de/wp-content/uploads/2023/09/Zen-und-Bogen.jpg
ORGANIZER;CN="Zen Dojo Bonn e.V.":MAILTO:info@zen-bonn.de
END:VEVENT
END:VCALENDAR