BEGIN:VCALENDAR
VERSION:2.0
PRODID:-//San Bo Dojo und Kô Getsu An - ECPv6.15.20//NONSGML v1.0//EN
CALSCALE:GREGORIAN
METHOD:PUBLISH
X-WR-CALNAME:San Bo Dojo und Kô Getsu An
X-ORIGINAL-URL:https://zen-bonn.de
X-WR-CALDESC:Veranstaltungen für San Bo Dojo und Kô Getsu An
REFRESH-INTERVAL;VALUE=DURATION:PT1H
X-Robots-Tag:noindex
X-PUBLISHED-TTL:PT1H
BEGIN:VTIMEZONE
TZID:Europe/Berlin
BEGIN:DAYLIGHT
TZOFFSETFROM:+0100
TZOFFSETTO:+0200
TZNAME:CEST
DTSTART:20250330T010000
END:DAYLIGHT
BEGIN:STANDARD
TZOFFSETFROM:+0200
TZOFFSETTO:+0100
TZNAME:CET
DTSTART:20251026T010000
END:STANDARD
BEGIN:DAYLIGHT
TZOFFSETFROM:+0100
TZOFFSETTO:+0200
TZNAME:CEST
DTSTART:20260329T010000
END:DAYLIGHT
BEGIN:STANDARD
TZOFFSETFROM:+0200
TZOFFSETTO:+0100
TZNAME:CET
DTSTART:20261025T010000
END:STANDARD
BEGIN:DAYLIGHT
TZOFFSETFROM:+0100
TZOFFSETTO:+0200
TZNAME:CEST
DTSTART:20270328T010000
END:DAYLIGHT
BEGIN:STANDARD
TZOFFSETFROM:+0200
TZOFFSETTO:+0100
TZNAME:CET
DTSTART:20271031T010000
END:STANDARD
END:VTIMEZONE
BEGIN:VEVENT
DTSTART;TZID=Europe/Berlin:20260503T090000
DTEND;TZID=Europe/Berlin:20260503T170000
DTSTAMP:20260423T221627
CREATED:20250903T153543Z
LAST-MODIFIED:20251231T091937Z
UID:10001311-1777798800-1777827600@zen-bonn.de
SUMMARY:Zen Tag Offene Weite
DESCRIPTION:Einen Tag lang gemeinsam klösterlichen Zen Alltag in unserer „Einsiedelei Klarer Mond“ erleben und eintauchen in die offene Weite der Zen Übung: im Sitzen (Zazen)\, Gehen (Kin Hin)\, beim Tee trinken\, Rezitieren und bei der Arbeit in Haus und Garten. Dies in Gemeinschaft und edlem Schweigen zu erleben\, ist eine kostbare Erfahrung für uns alle. \nAblauf: \n08:30 Ankommen\n09:00 Begrüßung und Einführung\n09:15 Choka (Rezitation)\n09:30 Sarei\, Zazen\n11:00 Samu\n12:30 Zazen\n13:00 Mittagessen (Oryoki)\n13:30 Pause\n14:30 Sarei\, Zazen\n15:00 Koan Gesprächskreis\n16:00 Banka\n16:15 Samu\n16:45 Abschlussrunde\n17:00 Ende \nBitte ein Esschalenset (3 -5 Schalen)\, Hausschuhe\, Kleidung und Schuhe für draußen und lockere\, dezente Kleidung für die Meditationszeiten mitbringen. \nWir praktizieren diesen Tag in der Tradition der Rinzai Schule. Der Tag wird geleitet von Johanna Ho Ka\, ordinierte Zen Nonne im To Gen Ji Tempel in Steyerberg und Zen Praktizierende seit mehr als 25 Jahren. \nUm Anmeldung wird gebeten. \nWir bitten um einen Kostenbeitrag von 30\,00 €.
URL:https://zen-bonn.de/termin/zen-tag-offene-weite-2026-2/2026-05-03/
LOCATION:Ko Getsu An – Einsiedelei klarer Mond (Zen Haus Blankenbach)\, Uthweiler Str. 32\, Hennef-Blankenbach\, 53773\, Deutschland
CATEGORIES:Zen Tag | Zazenkai | Sesshin
ATTACH;FMTTYPE=image/jpeg:https://zen-bonn.de/wp-content/uploads/2024/12/Header-Zen-Tag-Offene-Weite-2025.jpg
ORGANIZER;CN="Zen Dojo Bonn e.V.":MAILTO:info@zen-bonn.de
END:VEVENT
BEGIN:VEVENT
DTSTART;TZID=Europe/Berlin:20260809T090000
DTEND;TZID=Europe/Berlin:20260809T170000
DTSTAMP:20260423T221627
CREATED:20250903T153543Z
LAST-MODIFIED:20251231T091937Z
UID:10001312-1786266000-1786294800@zen-bonn.de
SUMMARY:Zen Tag Offene Weite
DESCRIPTION:Einen Tag lang gemeinsam klösterlichen Zen Alltag in unserer „Einsiedelei Klarer Mond“ erleben und eintauchen in die offene Weite der Zen Übung: im Sitzen (Zazen)\, Gehen (Kin Hin)\, beim Tee trinken\, Rezitieren und bei der Arbeit in Haus und Garten. Dies in Gemeinschaft und edlem Schweigen zu erleben\, ist eine kostbare Erfahrung für uns alle. \nAblauf: \n08:30 Ankommen\n09:00 Begrüßung und Einführung\n09:15 Choka (Rezitation)\n09:30 Sarei\, Zazen\n11:00 Samu\n12:30 Zazen\n13:00 Mittagessen (Oryoki)\n13:30 Pause\n14:30 Sarei\, Zazen\n15:00 Koan Gesprächskreis\n16:00 Banka\n16:15 Samu\n16:45 Abschlussrunde\n17:00 Ende \nBitte ein Esschalenset (3 -5 Schalen)\, Hausschuhe\, Kleidung und Schuhe für draußen und lockere\, dezente Kleidung für die Meditationszeiten mitbringen. \nWir praktizieren diesen Tag in der Tradition der Rinzai Schule. Der Tag wird geleitet von Johanna Ho Ka\, ordinierte Zen Nonne im To Gen Ji Tempel in Steyerberg und Zen Praktizierende seit mehr als 25 Jahren. \nUm Anmeldung wird gebeten. \nWir bitten um einen Kostenbeitrag von 30\,00 €.
URL:https://zen-bonn.de/termin/zen-tag-offene-weite-2026-2/2026-08-09/
LOCATION:Ko Getsu An – Einsiedelei klarer Mond (Zen Haus Blankenbach)\, Uthweiler Str. 32\, Hennef-Blankenbach\, 53773\, Deutschland
CATEGORIES:Zen Tag | Zazenkai | Sesshin
ATTACH;FMTTYPE=image/jpeg:https://zen-bonn.de/wp-content/uploads/2024/12/Header-Zen-Tag-Offene-Weite-2025.jpg
ORGANIZER;CN="Zen Dojo Bonn e.V.":MAILTO:info@zen-bonn.de
END:VEVENT
BEGIN:VEVENT
DTSTART;TZID=Europe/Berlin:20261108T090000
DTEND;TZID=Europe/Berlin:20261108T170000
DTSTAMP:20260423T221627
CREATED:20250903T153543Z
LAST-MODIFIED:20251231T091937Z
UID:10001313-1794128400-1794157200@zen-bonn.de
SUMMARY:Zen Tag Offene Weite
DESCRIPTION:Einen Tag lang gemeinsam klösterlichen Zen Alltag in unserer „Einsiedelei Klarer Mond“ erleben und eintauchen in die offene Weite der Zen Übung: im Sitzen (Zazen)\, Gehen (Kin Hin)\, beim Tee trinken\, Rezitieren und bei der Arbeit in Haus und Garten. Dies in Gemeinschaft und edlem Schweigen zu erleben\, ist eine kostbare Erfahrung für uns alle. \nAblauf: \n08:30 Ankommen\n09:00 Begrüßung und Einführung\n09:15 Choka (Rezitation)\n09:30 Sarei\, Zazen\n11:00 Samu\n12:30 Zazen\n13:00 Mittagessen (Oryoki)\n13:30 Pause\n14:30 Sarei\, Zazen\n15:00 Koan Gesprächskreis\n16:00 Banka\n16:15 Samu\n16:45 Abschlussrunde\n17:00 Ende \nBitte ein Esschalenset (3 -5 Schalen)\, Hausschuhe\, Kleidung und Schuhe für draußen und lockere\, dezente Kleidung für die Meditationszeiten mitbringen. \nWir praktizieren diesen Tag in der Tradition der Rinzai Schule. Der Tag wird geleitet von Johanna Ho Ka\, ordinierte Zen Nonne im To Gen Ji Tempel in Steyerberg und Zen Praktizierende seit mehr als 25 Jahren. \nUm Anmeldung wird gebeten. \nWir bitten um einen Kostenbeitrag von 30\,00 €.
URL:https://zen-bonn.de/termin/zen-tag-offene-weite-2026-2/2026-11-08/
LOCATION:Ko Getsu An – Einsiedelei klarer Mond (Zen Haus Blankenbach)\, Uthweiler Str. 32\, Hennef-Blankenbach\, 53773\, Deutschland
CATEGORIES:Zen Tag | Zazenkai | Sesshin
ATTACH;FMTTYPE=image/jpeg:https://zen-bonn.de/wp-content/uploads/2024/12/Header-Zen-Tag-Offene-Weite-2025.jpg
ORGANIZER;CN="Zen Dojo Bonn e.V.":MAILTO:info@zen-bonn.de
END:VEVENT
END:VCALENDAR